BEGIN:VCALENDAR
VERSION:2.0
PRODID:-//Pure Pawsh - North Park, San Diego - ECPv6.3.6//NONSGML v1.0//EN
CALSCALE:GREGORIAN
METHOD:PUBLISH
X-ORIGINAL-URL:https://purepawshsd.com
X-WR-CALDESC:Events for Pure Pawsh - North Park, San Diego
REFRESH-INTERVAL;VALUE=DURATION:PT1H
X-Robots-Tag:noindex
X-PUBLISHED-TTL:PT1H
BEGIN:VTIMEZONE
TZID:UTC
BEGIN:STANDARD
TZOFFSETFROM:+0000
TZOFFSETTO:+0000
TZNAME:UTC
DTSTART:20240101T000000
END:STANDARD
END:VTIMEZONE
BEGIN:VEVENT
DTSTART;TZID=UTC:20240713T090000
DTEND;TZID=UTC:20240713T095000
DTSTAMP:20260415T070650
CREATED:20240625T032850Z
LAST-MODIFIED:20240707T201533Z
UID:2219-1720861200-1720864200@purepawshsd.com
SUMMARY:Dog Yoga
DESCRIPTION:Join us for a rejuvenating morning at Pure Pawsh with Dog Yoga\, led by Aimee! This event is tailored for senior dogs or very well-behaved dogs\, offering a gentle yoga session to enhance their well-being and flexibility. Aimee specializes in creating a calming and supportive environment for older dogs\, ensuring a safe and enjoyable experience. We recommend dogs 8 years or older\, but you know your pup best! Ideal Participants: Senior dogs or very well-behaved dogs\n\nAge Recommendation: 8 years or older (individual discretion advised)\n\nExperience Level: Suitable for all levels\, including beginners\n\nWho Can Attend: Dog owners looking to bond with their pets in a serene setting\, and individuals who love yoga and dogs but may not have a dog themselves.Spaces are limited\, so secure your spot today for a peaceful and invigorating morning at Pure Pawsh!
URL:https://purepawshsd.com/event/dog-yoga-senior-dogs/
LOCATION:California
END:VEVENT
END:VCALENDAR