BEGIN:VCALENDAR
VERSION:2.0
PRODID:-//Pure Pawsh - North Park, San Diego - ECPv6.3.6//NONSGML v1.0//EN
CALSCALE:GREGORIAN
METHOD:PUBLISH
X-ORIGINAL-URL:https://purepawshsd.com
X-WR-CALDESC:Events for Pure Pawsh - North Park, San Diego
REFRESH-INTERVAL;VALUE=DURATION:PT1H
X-Robots-Tag:noindex
X-PUBLISHED-TTL:PT1H
BEGIN:VTIMEZONE
TZID:UTC
BEGIN:STANDARD
TZOFFSETFROM:+0000
TZOFFSETTO:+0000
TZNAME:UTC
DTSTART:20240101T000000
END:STANDARD
END:VTIMEZONE
BEGIN:VEVENT
DTSTART;TZID=UTC:20240811T100000
DTEND;TZID=UTC:20240811T105000
DTSTAMP:20260419T180122
CREATED:20240805T212602Z
LAST-MODIFIED:20240805T214213Z
UID:2246-1723370400-1723373400@purepawshsd.com
SUMMARY:A Sound Bath Experience for Dogs and Dog Lovers
DESCRIPTION:Sound healing utilizes therapeutic sound frequencies to promote healing and well-being. For dogs\, it can alleviate anxiety\, improve mood\, support health and better sleep patterns\, and create a calming environment. For owners\, it provides an opportunity to unwind\, reduce stress\, and deepen the bond with your pet. Led by Alexis and Miguel\, also known as Mystic Vortex\, who specialize in creating unique sound bath experiences\, this session ensures that both you and your dog will benefit from this peaceful and restorative practice. Who Can Attend:Dog owners looking to bond with their pets in a serene setting.Individuals without dogs who seek the calming effects of sound healing and share a love for dogs!Senior dogs or dogs with a very calm demeanor. We recommend dogs age 8 or older\, but you know your pup best! We look forward to seeing you at our Sound Bath! It’s an experience to experience!
URL:https://purepawshsd.com/event/a-sound-bath-experience-for-dogs-and-dog-lovers/
LOCATION:California
END:VEVENT
END:VCALENDAR