BEGIN:VCALENDAR
VERSION:2.0
PRODID:-//Pure Pawsh - North Park, San Diego - ECPv6.3.6//NONSGML v1.0//EN
CALSCALE:GREGORIAN
METHOD:PUBLISH
X-ORIGINAL-URL:https://purepawshsd.com
X-WR-CALDESC:Events for Pure Pawsh - North Park, San Diego
REFRESH-INTERVAL;VALUE=DURATION:PT1H
X-Robots-Tag:noindex
X-PUBLISHED-TTL:PT1H
BEGIN:VTIMEZONE
TZID:UTC
BEGIN:STANDARD
TZOFFSETFROM:+0000
TZOFFSETTO:+0000
TZNAME:UTC
DTSTART:20240101T000000
END:STANDARD
END:VTIMEZONE
BEGIN:VEVENT
DTSTART;TZID=UTC:20240830T190000
DTEND;TZID=UTC:20240830T210000
DTSTAMP:20260419T162047
CREATED:20240805T213353Z
LAST-MODIFIED:20240805T213353Z
UID:2254-1725044400-1725051600@purepawshsd.com
SUMMARY:Paws and Paint-Pet Portrait Night
DESCRIPTION: Paws and Paints: Pet Portrait Night!  Date & Time: Friday\, August 30th | 7:00pm – 9:00pm Venue: Pure Pawsh About the Event: Join us for Paws and Paints: Pet Portrait Night\, a unique and creative experience where art and pet love come together! Whether you’re a dog lover or a cat enthusiast\, this special event lets you celebrate your furry friend through personalized art. No painting experience is required—just bring your passion for your pet! How It Works:Send Us Your Photos: Email three well-lit images of your pet to info@purepawshsd.com by August 23rd:One headshotOne full-body photoOne image that best captures your pet’s personalityCanvas Preparation: Our talented artists will create a hand-drawn portrait of your pet on a canvas based on the photos you provide.Create Your Masterpiece: On the day of the event\, check-in and receive your pre-drawn canvas. A professional art instructor will guide you through the painting process\, ensuring a fun and supportive environment where you can create a beautiful piece of art. What’s Included:Pre-drawn canvas featuring your pet (dog or cat)Paints and brushesExpert guidance from a professional art instructorAn opportunity to connect with fellow pet loversOne beverage (alcoholic or non-alcoholic) Cost: $40 per participant (includes all materials)Social Aspect: Enjoy beverages\, chat with fellow pet enthusiasts\, and share stories about your beloved pets. We can’t wait to celebrate your pets with you at this creative and fun-filled evening! Please email info@purepawshsd.com with your pet’s photos by August 23rd.
URL:https://purepawshsd.com/event/paws-and-paint-pet-portrait-night/
LOCATION:California
END:VEVENT
END:VCALENDAR