BEGIN:VCALENDAR
VERSION:2.0
PRODID:-//Pure Pawsh - North Park, San Diego - ECPv6.3.6//NONSGML v1.0//EN
CALSCALE:GREGORIAN
METHOD:PUBLISH
X-WR-CALNAME:Pure Pawsh - North Park, San Diego
X-ORIGINAL-URL:https://purepawshsd.com
X-WR-CALDESC:Events for Pure Pawsh - North Park, San Diego
REFRESH-INTERVAL;VALUE=DURATION:PT1H
X-Robots-Tag:noindex
X-PUBLISHED-TTL:PT1H
BEGIN:VTIMEZONE
TZID:UTC
BEGIN:STANDARD
TZOFFSETFROM:+0000
TZOFFSETTO:+0000
TZNAME:UTC
DTSTART:20240101T000000
END:STANDARD
END:VTIMEZONE
BEGIN:VEVENT
DTSTART;TZID=UTC:20240914T120000
DTEND;TZID=UTC:20240914T150000
DTSTAMP:20260419T161842
CREATED:20240903T213024Z
LAST-MODIFIED:20240904T233051Z
UID:2280-1726315200-1726326000@purepawshsd.com
SUMMARY:Adoption Event with Frosted Faces
DESCRIPTION:Meet and Greet with Frosted Faces-Adoption Event We’re excited to partner with Frosted Faces Foundation for a special adoption event at Pure Pawsh on Saturday\, September 14th\, from 12:00 PM to 3:00 PM!  Come meet some lovable\, adoptable senior dogs looking for their forever homes. Frosted Faces Foundation is dedicated to giving senior dogs a second chance\, and we can’t wait for you to meet these sweet souls. Whether you’re looking to add a new furry family member or just want to spend some time with adorable pups\, this is the perfect opportunity. Event Highlights: -Meet adoptable senior dogs-Learn about fostering and adopting from Frosted Faces Foundation-Enjoy our cozy hangout spot with drinks from our bar\, including dog beer and treats-Shop our selection of unique toys\, accessories\, and more for your pup Let’s help these wonderful dogs find the loving homes they deserve! Date: Saturday\, September 14thTime: 12:00 PM – 3:00 PMLocation: Pure Pawsh\, North Park\, San Diego We hope to see you there for an afternoon of joy\, cuddles\, and community support! 
URL:https://purepawshsd.com/event/2280/
LOCATION:California
END:VEVENT
END:VCALENDAR