BEGIN:VCALENDAR
VERSION:2.0
PRODID:-//Pure Pawsh - North Park, San Diego - ECPv6.3.6//NONSGML v1.0//EN
CALSCALE:GREGORIAN
METHOD:PUBLISH
X-WR-CALNAME:Pure Pawsh - North Park, San Diego
X-ORIGINAL-URL:https://purepawshsd.com
X-WR-CALDESC:Events for Pure Pawsh - North Park, San Diego
REFRESH-INTERVAL;VALUE=DURATION:PT1H
X-Robots-Tag:noindex
X-PUBLISHED-TTL:PT1H
BEGIN:VTIMEZONE
TZID:UTC
BEGIN:STANDARD
TZOFFSETFROM:+0000
TZOFFSETTO:+0000
TZNAME:UTC
DTSTART:20240101T000000
END:STANDARD
END:VTIMEZONE
BEGIN:VEVENT
DTSTART;TZID=UTC:20240921T100000
DTEND;TZID=UTC:20240921T110000
DTSTAMP:20260419T161814
CREATED:20240903T210022Z
LAST-MODIFIED:20240904T200636Z
UID:2276-1726912800-1726916400@purepawshsd.com
SUMMARY:Yoga\, Dogs\, & Drafts
DESCRIPTION:Join us for a rejuvenating morning at Pure Pawsh with Doga\, AKA Dog Yoga! This event is tailored for senior dogs or well-behaved dogs\, offering a gentle yoga session to enhance their well-being and flexibility. We recommend dogs 5 years or older\, but you know your pup best! Ideal Participants: Senior dogs or very well-behaved dogs Age Recommendation: 5 years or older (individual discretion advised) Experience Level: Suitable for all levels\, including beginners Who Can Attend: Dog owners looking to bond with their pets in a serene setting\, and individuals who love yoga and dogs but may not have a dog themselves. Spaces are limited\, so secure your spot today for a peaceful and invigorating morning at Pure Pawsh! Ticket includes a post yoga pint from our dog friendly bar 🙂
URL:https://purepawshsd.com/event/yoga-dogs-draughts/
LOCATION:California
END:VEVENT
END:VCALENDAR