BEGIN:VCALENDAR
VERSION:2.0
PRODID:-//Pure Pawsh - North Park, San Diego - ECPv6.3.6//NONSGML v1.0//EN
CALSCALE:GREGORIAN
METHOD:PUBLISH
X-WR-CALNAME:Pure Pawsh - North Park, San Diego
X-ORIGINAL-URL:https://purepawshsd.com
X-WR-CALDESC:Events for Pure Pawsh - North Park, San Diego
REFRESH-INTERVAL;VALUE=DURATION:PT1H
X-Robots-Tag:noindex
X-PUBLISHED-TTL:PT1H
BEGIN:VTIMEZONE
TZID:UTC
BEGIN:STANDARD
TZOFFSETFROM:+0000
TZOFFSETTO:+0000
TZNAME:UTC
DTSTART:20240101T000000
END:STANDARD
END:VTIMEZONE
BEGIN:VEVENT
DTSTART;TZID=UTC:20241006T100000
DTEND;TZID=UTC:20241006T120000
DTSTAMP:20260419T131639
CREATED:20240927T190822Z
LAST-MODIFIED:20240927T190822Z
UID:2303-1728208800-1728216000@purepawshsd.com
SUMMARY:Puppy Sound Healing with the Animal Pad
DESCRIPTION:Start your morning with a champagne hour\, where you can enjoy free-flowing mimosas and cuddle with our adoptable puppies. Then\, immerse yourself in a soothing sound bath by Mystic Vortex as the puppies roam freely around\, bringing joy and relaxation to your soul. Half of the proceeds from this event will be donated to TAP\, supporting their mission (and our’s) to rescue and rehabilitate dogs in need.
URL:https://purepawshsd.com/event/puppy-sound-healing-with-the-animal-pad/
LOCATION:California
END:VEVENT
END:VCALENDAR