BEGIN:VCALENDAR
VERSION:2.0
PRODID:-//Pure Pawsh - North Park, San Diego - ECPv6.3.6//NONSGML v1.0//EN
CALSCALE:GREGORIAN
METHOD:PUBLISH
X-WR-CALNAME:Pure Pawsh - North Park, San Diego
X-ORIGINAL-URL:https://purepawshsd.com
X-WR-CALDESC:Events for Pure Pawsh - North Park, San Diego
REFRESH-INTERVAL;VALUE=DURATION:PT1H
X-Robots-Tag:noindex
X-PUBLISHED-TTL:PT1H
BEGIN:VTIMEZONE
TZID:UTC
BEGIN:STANDARD
TZOFFSETFROM:+0000
TZOFFSETTO:+0000
TZNAME:UTC
DTSTART:20240101T000000
END:STANDARD
END:VTIMEZONE
BEGIN:VEVENT
DTSTART;TZID=UTC:20241013T180000
DTEND;TZID=UTC:20241013T200000
DTSTAMP:20260419T161815
CREATED:20241003T003500Z
LAST-MODIFIED:20241003T003500Z
UID:2311-1728842400-1728849600@purepawshsd.com
SUMMARY:Barks and Laughs-Comedy Night with Abnormal Heights Comedy
DESCRIPTION:Join us at 6pm on Sunday October 13\, 2024\, as ABNORMAL NIGHTS COMEDY brings howl-arious comedians to Pure Pawsh for an un-fur-gettable night of laughter\, barks\, and fun! Drinks from our dog friendly bar and dog treats available for purchase. A portion of proceeds will go to support The Animal Pad! Don’t miss out on this UNIQUE COMEDY EVENT! Grab your FREE tickets now for the 6PM SHOW and get ready to have a ball!
URL:https://purepawshsd.com/event/barks-and-laughs-comedy-night-with-abnormal-heights-comedy/
LOCATION:California
END:VEVENT
END:VCALENDAR