BEGIN:VCALENDAR
VERSION:2.0
PRODID:-//Pure Pawsh - North Park, San Diego - ECPv6.3.6//NONSGML v1.0//EN
CALSCALE:GREGORIAN
METHOD:PUBLISH
X-ORIGINAL-URL:https://purepawshsd.com
X-WR-CALDESC:Events for Pure Pawsh - North Park, San Diego
REFRESH-INTERVAL;VALUE=DURATION:PT1H
X-Robots-Tag:noindex
X-PUBLISHED-TTL:PT1H
BEGIN:VTIMEZONE
TZID:UTC
BEGIN:STANDARD
TZOFFSETFROM:+0000
TZOFFSETTO:+0000
TZNAME:UTC
DTSTART:20240101T000000
END:STANDARD
END:VTIMEZONE
BEGIN:VEVENT
DTSTART;TZID=UTC:20241024T183000
DTEND;TZID=UTC:20241024T203000
DTSTAMP:20260419T194540
CREATED:20240927T191054Z
LAST-MODIFIED:20240927T191054Z
UID:2305-1729794600-1729801800@purepawshsd.com
SUMMARY:Wags and Witches: Team Trivia and Costume Spooktacular
DESCRIPTION:Gather your squad and their pups for a night of fierce competition at Wags and Witches: Team Trivia and Costume Spooktacular! Dress your team and your dogs in matching themed costumes and prepare to take on spooky trivia questions. Whether you’re dressed as a pack of superheroes\, a haunted circus crew\, or a classic monster mash\, creativity is key! Prizes will be awarded for the best costumes\, trivia champs\, and most creative team theme. Let the games (and treats) begin! 🎃🐾 Please RSVP! Spots are limited! Parking is available at 3829 29th Street and is $1 per hour. If you bring your parking ticket\, we’ll reimburse you a $1 with any purchase!
URL:https://purepawshsd.com/event/wags-and-witches-team-trivia-and-costume-spooktacular/
LOCATION:California
END:VEVENT
END:VCALENDAR