BEGIN:VCALENDAR
VERSION:2.0
PRODID:-//Pure Pawsh - North Park, San Diego - ECPv6.3.6//NONSGML v1.0//EN
CALSCALE:GREGORIAN
METHOD:PUBLISH
X-WR-CALNAME:Pure Pawsh - North Park, San Diego
X-ORIGINAL-URL:https://purepawshsd.com
X-WR-CALDESC:Events for Pure Pawsh - North Park, San Diego
REFRESH-INTERVAL;VALUE=DURATION:PT1H
X-Robots-Tag:noindex
X-PUBLISHED-TTL:PT1H
BEGIN:VTIMEZONE
TZID:UTC
BEGIN:STANDARD
TZOFFSETFROM:+0000
TZOFFSETTO:+0000
TZNAME:UTC
DTSTART:20240101T000000
END:STANDARD
END:VTIMEZONE
BEGIN:VEVENT
DTSTART;TZID=UTC:20241025T190000
DTEND;TZID=UTC:20241025T210000
DTSTAMP:20260419T211939
CREATED:20241001T210950Z
LAST-MODIFIED:20241001T210950Z
UID:2307-1729882800-1729890000@purepawshsd.com
SUMMARY:Paws and Paint: Pet Portrait Night
DESCRIPTION:Paws and Paint Night is BACK!   Join us on Friday\, October 25th at 7pm for another fun-filled night of painting and pups! Submit a photo of your dog\, and our talented artist will have it prepped on a canvas ready for you to create your own masterpiece while enjoying a drink on us.  While the paintings won’t be Halloween-themed\, costumes are encouraged (for you and your pup!) to bring some extra spooky vibes to the night.  Our last event sold out quickly\, so don’t wait—grab your tickets now! 
URL:https://purepawshsd.com/event/paws-and-paint-pet-portrait-night-2/
LOCATION:California
END:VEVENT
END:VCALENDAR