BEGIN:VCALENDAR
VERSION:2.0
PRODID:-//Pure Pawsh - North Park, San Diego - ECPv6.3.6//NONSGML v1.0//EN
CALSCALE:GREGORIAN
METHOD:PUBLISH
X-ORIGINAL-URL:https://purepawshsd.com
X-WR-CALDESC:Events for Pure Pawsh - North Park, San Diego
REFRESH-INTERVAL;VALUE=DURATION:PT1H
X-Robots-Tag:noindex
X-PUBLISHED-TTL:PT1H
BEGIN:VTIMEZONE
TZID:UTC
BEGIN:STANDARD
TZOFFSETFROM:+0000
TZOFFSETTO:+0000
TZNAME:UTC
DTSTART:20240101T000000
END:STANDARD
END:VTIMEZONE
BEGIN:VEVENT
DTSTART;TZID=UTC:20241103T110000
DTEND;TZID=UTC:20241103T120000
DTSTAMP:20260421T095802
CREATED:20241026T180025Z
LAST-MODIFIED:20241026T180025Z
UID:2314-1730631600-1730635200@purepawshsd.com
SUMMARY:Puppy Pose and Pints
DESCRIPTION:Join us for Puppy Yoga!Sunday\, [Date] | [Time]Pure Pawsh\, North Park About the Event:Breathe\, stretch\, and unwind alongside adoptable puppies from the San Diego Humane Society! This fun and relaxing yoga class will help you find your zen while adorable pups bring smiles and snuggles to your mat. After the session\, enjoy a complimentary drink and mingle with fellow dog lovers. Tickets: $45 (includes a free drink)Limited Spots Available—Reserve Yours Today! By attending\, you’re also supporting a great cause\, as a portion of proceeds will go toward helping the puppies find their forever homes. Don’t miss this chance to relax\, have fun\, and maybe meet your new furry best friend! Sign up now and get ready to strike a “puppy pose!”
URL:https://purepawshsd.com/event/puppy-pose-and-pints/
LOCATION:California
END:VEVENT
END:VCALENDAR