BEGIN:VCALENDAR
VERSION:2.0
PRODID:-//Pure Pawsh - North Park, San Diego - ECPv6.3.6//NONSGML v1.0//EN
CALSCALE:GREGORIAN
METHOD:PUBLISH
X-WR-CALNAME:Pure Pawsh - North Park, San Diego
X-ORIGINAL-URL:https://purepawshsd.com
X-WR-CALDESC:Events for Pure Pawsh - North Park, San Diego
REFRESH-INTERVAL;VALUE=DURATION:PT1H
X-Robots-Tag:noindex
X-PUBLISHED-TTL:PT1H
BEGIN:VTIMEZONE
TZID:UTC
BEGIN:STANDARD
TZOFFSETFROM:+0000
TZOFFSETTO:+0000
TZNAME:UTC
DTSTART:20240101T000000
END:STANDARD
END:VTIMEZONE
BEGIN:VEVENT
DTSTART;TZID=UTC:20241214T113000
DTEND;TZID=UTC:20241214T133000
DTSTAMP:20260414T195120
CREATED:20241127T231114Z
LAST-MODIFIED:20241127T231114Z
UID:2358-1734175800-1734183000@purepawshsd.com
SUMMARY:Frenchie Meetup
DESCRIPTION:
URL:https://purepawshsd.com/event/frenchie-meetup/
LOCATION:California
END:VEVENT
END:VCALENDAR