BEGIN:VCALENDAR
VERSION:2.0
PRODID:-//Pure Pawsh - North Park, San Diego - ECPv6.3.6//NONSGML v1.0//EN
CALSCALE:GREGORIAN
METHOD:PUBLISH
X-ORIGINAL-URL:https://purepawshsd.com
X-WR-CALDESC:Events for Pure Pawsh - North Park, San Diego
REFRESH-INTERVAL;VALUE=DURATION:PT1H
X-Robots-Tag:noindex
X-PUBLISHED-TTL:PT1H
BEGIN:VTIMEZONE
TZID:UTC
BEGIN:STANDARD
TZOFFSETFROM:+0000
TZOFFSETTO:+0000
TZNAME:UTC
DTSTART:20240101T000000
END:STANDARD
END:VTIMEZONE
BEGIN:VEVENT
DTSTART;TZID=UTC:20241227T080000
DTEND;TZID=UTC:20241227T170000
DTSTAMP:20260425T130732
CREATED:20241227T225229Z
LAST-MODIFIED:20241227T225229Z
UID:2468-1735286400-1735318800@purepawshsd.com
SUMMARY:Touchdowns and Treats-Football\, $6 beers\, and pups in game day gear!
DESCRIPTION:Join us every Sunday for off leash fun in our daycare area and $6 beers! Show your team pride and dress up the pup! Come for the pups and deals\, stay for the vibe 🙂
URL:https://purepawshsd.com/event/touchdowns-and-treats-football-6-beers-and-pups-in-game-day-gear/
LOCATION:California
END:VEVENT
END:VCALENDAR