BEGIN:VCALENDAR
VERSION:2.0
PRODID:-//Pure Pawsh - North Park, San Diego - ECPv6.3.6//NONSGML v1.0//EN
CALSCALE:GREGORIAN
METHOD:PUBLISH
X-ORIGINAL-URL:https://purepawshsd.com
X-WR-CALDESC:Events for Pure Pawsh - North Park, San Diego
REFRESH-INTERVAL;VALUE=DURATION:PT1H
X-Robots-Tag:noindex
X-PUBLISHED-TTL:PT1H
BEGIN:VTIMEZONE
TZID:UTC
BEGIN:STANDARD
TZOFFSETFROM:+0000
TZOFFSETTO:+0000
TZNAME:UTC
DTSTART:20250101T000000
END:STANDARD
END:VTIMEZONE
BEGIN:VEVENT
DTSTART;TZID=UTC:20250103T150000
DTEND;TZID=UTC:20250103T190000
DTSTAMP:20260423T115645
CREATED:20241227T224951Z
LAST-MODIFIED:20241231T185934Z
UID:2466-1735916400-1735930800@purepawshsd.com
SUMMARY:Furtastic Fridays-Beer and a Chew $6
DESCRIPTION:Join us every Friday in January for yappy hour with the pups! $6 for a beer and a chew from our raw bar • Add a second beer or drink for +$5.
URL:https://purepawshsd.com/event/furtastic-fridays-happy-hour-packages-for-humans-and-hounds/
LOCATION:California
END:VEVENT
END:VCALENDAR