BEGIN:VCALENDAR
VERSION:2.0
PRODID:-//Pure Pawsh - North Park, San Diego - ECPv6.3.6//NONSGML v1.0//EN
CALSCALE:GREGORIAN
METHOD:PUBLISH
X-ORIGINAL-URL:https://purepawshsd.com
X-WR-CALDESC:Events for Pure Pawsh - North Park, San Diego
REFRESH-INTERVAL;VALUE=DURATION:PT1H
X-Robots-Tag:noindex
X-PUBLISHED-TTL:PT1H
BEGIN:VTIMEZONE
TZID:UTC
BEGIN:STANDARD
TZOFFSETFROM:+0000
TZOFFSETTO:+0000
TZNAME:UTC
DTSTART:20250101T000000
END:STANDARD
END:VTIMEZONE
BEGIN:VEVENT
DTSTART;TZID=UTC:20250122T183000
DTEND;TZID=UTC:20250122T192000
DTSTAMP:20260421T113012
CREATED:20250114T214346Z
LAST-MODIFIED:20250115T213755Z
UID:2505-1737570600-1737573600@purepawshsd.com
SUMMARY:Wellness Wednesday-Dog Yoga and Meditation
DESCRIPTION:Join us for Pawsitive Beginnings\, a unique wellness experience that combines yoga\, meditation\, and socialization for both you and your dog! Each Wednesday in January (starting on Thursday\, January 2nd)\, we’ll stretch\, strengthen\, and unwind together in a fun and welcoming environment. 🌱💖 🐶 What to Expect:Gentle yoga for you & your pup 🧘‍♀️🐾Mindful meditation to enhance your wellness 💫Socialize with fellow dog lovers and their pups in the North Park community 🐕❤️
URL:https://purepawshsd.com/event/wellness-wednesday-dog-yoga-and-meditation/
LOCATION:California
END:VEVENT
END:VCALENDAR