BEGIN:VCALENDAR
VERSION:2.0
PRODID:-//Pure Pawsh - North Park, San Diego - ECPv6.3.6//NONSGML v1.0//EN
CALSCALE:GREGORIAN
METHOD:PUBLISH
X-WR-CALNAME:Pure Pawsh - North Park, San Diego
X-ORIGINAL-URL:https://purepawshsd.com
X-WR-CALDESC:Events for Pure Pawsh - North Park, San Diego
REFRESH-INTERVAL;VALUE=DURATION:PT1H
X-Robots-Tag:noindex
X-PUBLISHED-TTL:PT1H
BEGIN:VTIMEZONE
TZID:UTC
BEGIN:STANDARD
TZOFFSETFROM:+0000
TZOFFSETTO:+0000
TZNAME:UTC
DTSTART:20250101T000000
END:STANDARD
END:VTIMEZONE
BEGIN:VEVENT
DTSTART;TZID=UTC:20250124T183000
DTEND;TZID=UTC:20250124T193000
DTSTAMP:20260421T115732
CREATED:20241231T191223Z
LAST-MODIFIED:20241231T191223Z
UID:2481-1737743400-1737747000@purepawshsd.com
SUMMARY:Zen Friday: Puppy Yoga with Adoptable Puppies from San Diego Humane Society
DESCRIPTION:You’re Invited to Zen Friday: Puppy Yoga with San Diego Humane Society! Unwind and de-stress with the perfect combination of relaxation and puppy love! Join us on Friday\, January 24th\, at 6:30 PM for an hour-long\, heartwarming yoga session\, where you’ll get to stretch\, breathe\, and bond with adorable adoptable puppies from San Diego Humane Society. It’s the ultimate way to achieve inner peace while enjoying some puppy cuddles! After yoga\, enjoy a refreshing drink on us! Choose from a selection of alcoholic and non-alcoholic options from our bar to keep the good vibes flowing. Details:Date: Friday\, January 24thTime: 6:30 PM (1 hour)Location: Pure Pawsh Tickets include: Yoga session with adoptable puppies\n\nA drink from our bar (alcoholic & non-alcoholic options)Spaces are limited\, so reserve your spot today and get ready for a paws-itively unforgettable evening! Let’s stretch\, relax\, and make new furry friends!
URL:https://purepawshsd.com/event/zen-friday-puppy-yoga-with-adoptable-puppies-from-san-diego-humane-society/
LOCATION:California
END:VEVENT
END:VCALENDAR