BEGIN:VCALENDAR
VERSION:2.0
PRODID:-//Pure Pawsh - North Park, San Diego - ECPv6.3.6//NONSGML v1.0//EN
CALSCALE:GREGORIAN
METHOD:PUBLISH
X-WR-CALNAME:Pure Pawsh - North Park, San Diego
X-ORIGINAL-URL:https://purepawshsd.com
X-WR-CALDESC:Events for Pure Pawsh - North Park, San Diego
REFRESH-INTERVAL;VALUE=DURATION:PT1H
X-Robots-Tag:noindex
X-PUBLISHED-TTL:PT1H
BEGIN:VTIMEZONE
TZID:UTC
BEGIN:STANDARD
TZOFFSETFROM:+0000
TZOFFSETTO:+0000
TZNAME:UTC
DTSTART:20250101T000000
END:STANDARD
END:VTIMEZONE
BEGIN:VEVENT
DTSTART;TZID=UTC:20250212T183000
DTEND;TZID=UTC:20250212T193000
DTSTAMP:20260415T172610
CREATED:20250201T174859Z
LAST-MODIFIED:20250201T174859Z
UID:2534-1739385000-1739388600@purepawshsd.com
SUMMARY:Wellness Wednesdays-Dog Friendly Sound Bath and Yoga
DESCRIPTION:Join us for a mini yoga session followed by a sound bath led by Alexis from Mystic Vortex. Whether you’re just a dog lover\, or a dog owner\, all are welcome\, including pups! Wellness Wednesdays are a great way to relax and recharge mid-week\, for both humans and dogs!
URL:https://purepawshsd.com/event/wellness-wednesdays-dog-friendly-sound-bath-and-yoga/
LOCATION:California
END:VEVENT
END:VCALENDAR