BEGIN:VCALENDAR
VERSION:2.0
PRODID:-//Pure Pawsh - North Park, San Diego - ECPv6.3.6//NONSGML v1.0//EN
CALSCALE:GREGORIAN
METHOD:PUBLISH
X-WR-CALNAME:Pure Pawsh - North Park, San Diego
X-ORIGINAL-URL:https://purepawshsd.com
X-WR-CALDESC:Events for Pure Pawsh - North Park, San Diego
REFRESH-INTERVAL;VALUE=DURATION:PT1H
X-Robots-Tag:noindex
X-PUBLISHED-TTL:PT1H
BEGIN:VTIMEZONE
TZID:UTC
BEGIN:STANDARD
TZOFFSETFROM:+0000
TZOFFSETTO:+0000
TZNAME:UTC
DTSTART:20250101T000000
END:STANDARD
END:VTIMEZONE
BEGIN:VEVENT
DTSTART;TZID=UTC:20250405T120000
DTEND;TZID=UTC:20250405T140000
DTSTAMP:20260421T151741
CREATED:20250328T160853Z
LAST-MODIFIED:20250328T160853Z
UID:2602-1743854400-1743861600@purepawshsd.com
SUMMARY:Chihuahua Meetup
DESCRIPTION:Join us for our Chihuahua Meetup — a tail-waggin’ good time just for the tiniest of pups and the humans who adore them. This social gathering is all about celebrating these big-personality\, pint-sized pups in a fun and relaxed atmosphere. Saturday\, April 5 | 12PM – 2PMPure Pawsh | 4045 30th Street\, San Diego\, CA 92104 We’ll have beers on draft for the humans and a safe\, playful space for the pups to romp and mingle. Whether you’ve got a Chihuahua\, a Chi mix\, or just love the breed\, this is your chance to meet fellow enthusiasts\, snap some adorable pics\, and enjoy a chill afternoon in North Park. Tiny Dogs\, Big Fun – we can’t wait to see you there!
URL:https://purepawshsd.com/event/chihuahua-meetup/
LOCATION:California
END:VEVENT
END:VCALENDAR