BEGIN:VCALENDAR
VERSION:2.0
PRODID:-//Pure Pawsh - North Park, San Diego - ECPv6.3.6//NONSGML v1.0//EN
CALSCALE:GREGORIAN
METHOD:PUBLISH
X-WR-CALNAME:Pure Pawsh - North Park, San Diego
X-ORIGINAL-URL:https://purepawshsd.com
X-WR-CALDESC:Events for Pure Pawsh - North Park, San Diego
REFRESH-INTERVAL;VALUE=DURATION:PT1H
X-Robots-Tag:noindex
X-PUBLISHED-TTL:PT1H
BEGIN:VTIMEZONE
TZID:UTC
BEGIN:STANDARD
TZOFFSETFROM:+0000
TZOFFSETTO:+0000
TZNAME:UTC
DTSTART:20250101T000000
END:STANDARD
END:VTIMEZONE
BEGIN:VEVENT
DTSTART;TZID=UTC:20250406T160000
DTEND;TZID=UTC:20250406T180000
DTSTAMP:20260421T154533
CREATED:20250328T162401Z
LAST-MODIFIED:20250328T162401Z
UID:2608-1743955200-1743962400@purepawshsd.com
SUMMARY:Matilda's Fiesta Pawty
DESCRIPTION:Celebrating Matilda’s third birthday with a Fiesta Pawty! Although this is a private event\, our full retail store and all services will be available.
URL:https://purepawshsd.com/event/matildas-fiesta-pawty/
LOCATION:California
END:VEVENT
END:VCALENDAR