BEGIN:VCALENDAR
VERSION:2.0
PRODID:-//Pure Pawsh - North Park, San Diego - ECPv6.3.6//NONSGML v1.0//EN
CALSCALE:GREGORIAN
METHOD:PUBLISH
X-WR-CALNAME:Pure Pawsh - North Park, San Diego
X-ORIGINAL-URL:https://purepawshsd.com
X-WR-CALDESC:Events for Pure Pawsh - North Park, San Diego
REFRESH-INTERVAL;VALUE=DURATION:PT1H
X-Robots-Tag:noindex
X-PUBLISHED-TTL:PT1H
BEGIN:VTIMEZONE
TZID:UTC
BEGIN:STANDARD
TZOFFSETFROM:+0000
TZOFFSETTO:+0000
TZNAME:UTC
DTSTART:20250101T000000
END:STANDARD
END:VTIMEZONE
BEGIN:VEVENT
DTSTART;TZID=UTC:20250412T120000
DTEND;TZID=UTC:20250412T140000
DTSTAMP:20260421T172613
CREATED:20250328T162808Z
LAST-MODIFIED:20250328T162808Z
UID:2610-1744459200-1744466400@purepawshsd.com
SUMMARY:Aussie Meetup
DESCRIPTION:🐾🇦🇺 Aussie Meetup at Pure Pawsh! 🇦🇺🐾 Calling all Aussie dog parents! 🐶✨ Join us on Saturday\, April 12th\, from 12 PM – 2 PM for an Australian Shepherd Meetup at Pure Pawsh! 🌟 Meet & mingle with fellow Aussie lovers🍹 Enjoy refreshing drinks from our bar🐶 Let your pups socialize and make new furry friends! Whether you have an Aussie or just love them\, come hang out for a fun afternoon filled with wagging tails and good vibes! 🐾💙
URL:https://purepawshsd.com/event/aussie-meetup/
LOCATION:California
END:VEVENT
END:VCALENDAR