BEGIN:VCALENDAR
VERSION:2.0
PRODID:-//Pure Pawsh - North Park, San Diego - ECPv6.3.6//NONSGML v1.0//EN
CALSCALE:GREGORIAN
METHOD:PUBLISH
X-ORIGINAL-URL:https://purepawshsd.com
X-WR-CALDESC:Events for Pure Pawsh - North Park, San Diego
REFRESH-INTERVAL;VALUE=DURATION:PT1H
X-Robots-Tag:noindex
X-PUBLISHED-TTL:PT1H
BEGIN:VTIMEZONE
TZID:UTC
BEGIN:STANDARD
TZOFFSETFROM:+0000
TZOFFSETTO:+0000
TZNAME:UTC
DTSTART:20250101T000000
END:STANDARD
END:VTIMEZONE
BEGIN:VEVENT
DTSTART;TZID=UTC:20250417T183000
DTEND;TZID=UTC:20250417T200000
DTSTAMP:20260421T172821
CREATED:20250328T163253Z
LAST-MODIFIED:20250401T192936Z
UID:2612-1744914600-1744920000@purepawshsd.com
SUMMARY:Paws & Charms: Create Your Own Charm Bracelet from Our Story
DESCRIPTION:PAWS & CHARMS: CREATE YOUR OWN CHARM BRACELET🐾✨ A Special DIY Event at Pure Pawsh ✨🐾 📅 Thursday\, April 17th⏰ 6:30 PM📍 Pure Pawsh\, 4045 30th Street\, San Diego\, CA Join us for PAWS & CHARMS\, a charm bracelet-making experience in collaboration with Our Story! Create your own unique bracelet using dog-inspired charms\, while sipping on your favorite drinks from our bar. 🍹🐶💖 🎨 Design your own charm bracelet with beautiful pieces from Our Story🐕 Dog-inspired charms to showcase your love for pups🍸 Drinks available for purchase to enjoy while you craft📲 RSVP required on our website to secure your spot! Bring your creativity\, enjoy a fun night out\, and leave with a one-of-a-kind charm bracelet that tells your story! 💕🐶✨
URL:https://purepawshsd.com/event/paws-charms-create-your-own-charm-bracelet/
LOCATION:California
END:VEVENT
END:VCALENDAR