BEGIN:VCALENDAR
VERSION:2.0
PRODID:-//Pure Pawsh - North Park, San Diego - ECPv6.3.6//NONSGML v1.0//EN
CALSCALE:GREGORIAN
METHOD:PUBLISH
X-WR-CALNAME:Pure Pawsh - North Park, San Diego
X-ORIGINAL-URL:https://purepawshsd.com
X-WR-CALDESC:Events for Pure Pawsh - North Park, San Diego
REFRESH-INTERVAL;VALUE=DURATION:PT1H
X-Robots-Tag:noindex
X-PUBLISHED-TTL:PT1H
BEGIN:VTIMEZONE
TZID:UTC
BEGIN:STANDARD
TZOFFSETFROM:+0000
TZOFFSETTO:+0000
TZNAME:UTC
DTSTART:20250101T000000
END:STANDARD
END:VTIMEZONE
BEGIN:VEVENT
DTSTART;TZID=UTC:20250418T183000
DTEND;TZID=UTC:20250418T200000
DTSTAMP:20260421T172614
CREATED:20250401T184911Z
LAST-MODIFIED:20250401T184911Z
UID:2617-1745001000-1745006400@purepawshsd.com
SUMMARY:Puppies and Yoga
DESCRIPTION:🐾 Puppies & Yoga 🧘‍♀️🐶 Looking for the perfect way to kick off your weekend? Join us for a zen Friday night with Puppies and Yoga! 🐾✨ Come meet adorable adoptable pups 🐕\, stretch out with a relaxing yoga flow 🧘‍♂️\, and sip on drinks from our dog-friendly bar 🍹. 50% of the proceeds will go directly to supporting Adopt Baha Animal Rescue\, so you’re not just having fun—you’re helping animals in need! ❤️ 📅 When: Friday\, 4/18 at 6:30 PM📍 Where: Pure Pawsh\, North Park This is the perfect date night or a fun way to kick off the weekend with your best friend 🐾. Bring your mat\, a good vibe\, and get ready for euphoric puppy cuddles! 🐾✨
URL:https://purepawshsd.com/event/puppies-and-yoga/
LOCATION:California
END:VEVENT
END:VCALENDAR