BEGIN:VCALENDAR
VERSION:2.0
PRODID:-//Pure Pawsh - North Park, San Diego - ECPv6.3.6//NONSGML v1.0//EN
CALSCALE:GREGORIAN
METHOD:PUBLISH
X-ORIGINAL-URL:https://purepawshsd.com
X-WR-CALDESC:Events for Pure Pawsh - North Park, San Diego
REFRESH-INTERVAL;VALUE=DURATION:PT1H
X-Robots-Tag:noindex
X-PUBLISHED-TTL:PT1H
BEGIN:VTIMEZONE
TZID:UTC
BEGIN:STANDARD
TZOFFSETFROM:+0000
TZOFFSETTO:+0000
TZNAME:UTC
DTSTART:20250101T000000
END:STANDARD
END:VTIMEZONE
BEGIN:VEVENT
DTSTART;TZID=UTC:20250419T110000
DTEND;TZID=UTC:20250419T150000
DTSTAMP:20260421T172856
CREATED:20250328T161835Z
LAST-MODIFIED:20250401T190511Z
UID:2604-1745060400-1745074800@purepawshsd.com
SUMMARY:Hop and Pose: Pictures with the Easter Bunny
DESCRIPTION:🐰📸 HOP & POSE WITH THE EASTER BUNNY! 🐶🥕 Join us on Saturday\, April 19th\, from 11 AM – 3 PM at Pure Pawsh (4045 30th Street\, San Diego\, CA) for an egg-stra special Easter event! 🌸✨ For just $20 per photo\, you and your pup can strike a pose with the Easter Bunny! 📷🐰 We’ll have a professional photographer on-site and a beautiful spring-themed backdrop to capture the perfect memory. 🎨🐾 Plus\, get creative at our Paw Print Painting Station—a fun arts and crafts activity to take home a special keepsake of your furry friend! 🍺 Cheers to all-day drink specials\, making it a paw-some time for everyone! 🐾💙 A portion of proceeds from the event will support Woofs and Wags\, helping rescue pups in need! Tag your dog-loving friends and hop on over for a fun-filled day! 🐶💕
URL:https://purepawshsd.com/event/hop-and-pose-pictures-with-the-easter-bunny/
LOCATION:California
END:VEVENT
END:VCALENDAR