BEGIN:VCALENDAR
VERSION:2.0
PRODID:-//Pure Pawsh - North Park, San Diego - ECPv6.3.6//NONSGML v1.0//EN
CALSCALE:GREGORIAN
METHOD:PUBLISH
X-WR-CALNAME:Pure Pawsh - North Park, San Diego
X-ORIGINAL-URL:https://purepawshsd.com
X-WR-CALDESC:Events for Pure Pawsh - North Park, San Diego
REFRESH-INTERVAL;VALUE=DURATION:PT1H
X-Robots-Tag:noindex
X-PUBLISHED-TTL:PT1H
BEGIN:VTIMEZONE
TZID:UTC
BEGIN:STANDARD
TZOFFSETFROM:+0000
TZOFFSETTO:+0000
TZNAME:UTC
DTSTART:20250101T000000
END:STANDARD
END:VTIMEZONE
BEGIN:VEVENT
DTSTART;TZID=UTC:20250424T080000
DTEND;TZID=UTC:20250424T180000
DTSTAMP:20260415T034716
CREATED:20250328T165221Z
LAST-MODIFIED:20250401T193240Z
UID:2614-1745481600-1745517600@purepawshsd.com
SUMMARY:Bring your "child" to work day!
DESCRIPTION:🐾☕ BRING YOUR DOG TO WORK DAY – PURE PAWSH EDITION! ☕🐾 Forget the office – it’s Bring Your Child to Work Day\, but we’re putting a twist on it! Bring your pup instead and work remotely from our dog-friendly patio! 🐶💻 📅 Thursday\, April 24th📍 Pure Pawsh Patio☕ Featuring Ry’s Coffee House – Our New Coffee Cart!🍺 Beers\, Hard Seltzers\, Ciders & Kombuchas Available at the Bar🦴 FREE Dog Chew with Any Coffee or Drink Purchase! Set up shop\, grab a drink\, and let your furry “coworker” enjoy the workday with you! 🐕✨
URL:https://purepawshsd.com/event/bring-your-child-to-work-day/
LOCATION:California
END:VEVENT
BEGIN:VEVENT
DTSTART;TZID=UTC:20250424T183000
DTEND;TZID=UTC:20250424T203000
DTSTAMP:20260415T034716
CREATED:20250401T193052Z
LAST-MODIFIED:20250401T193052Z
UID:2622-1745519400-1745526600@purepawshsd.com
SUMMARY:Puppy Love: A Unique Date Night with Drinks and Puppies
DESCRIPTION:💖 Puppy Love Date Night 🐾✨ Looking to surprise someone with the happiest date of their life? 😍 Join us for a one-of-a-kind evening of puppy snuggles\, drinks\, and good vibes! 🐶💫 Puppy Love Date Night is the perfect way to impress a special someone — whether it’s your longtime partner or a fresh new flame. 💘 Sip drinks from our cozy bar 🍸\, cuddle with adoptable puppies from Baja Paws 🐕\, and let the serotonin flow! ✨ Not only will you have an unforgettable night\, but a portion of proceeds will go to support Baja Paws Animal Rescue 🐾\, helping pups in need find their forever homes! 💖 Make it a full date night with delicious dinner delivered from Crazee Burger 🍔\, or stop by before or after your other plans for a dose of pure joy 💖. This is not your average date. This is puppy love at its finest! 🐾💕 📅 When: Thursday\, April 24th at 6:30 PM📍 Where: Pure Pawsh
URL:https://purepawshsd.com/event/puppy-love-a-unique-date-night-with-drinks-and-puppies/
LOCATION:California
END:VEVENT
END:VCALENDAR