BEGIN:VCALENDAR
VERSION:2.0
PRODID:-//Pure Pawsh - North Park, San Diego - ECPv6.3.6//NONSGML v1.0//EN
CALSCALE:GREGORIAN
METHOD:PUBLISH
X-WR-CALNAME:Pure Pawsh - North Park, San Diego
X-ORIGINAL-URL:https://purepawshsd.com
X-WR-CALDESC:Events for Pure Pawsh - North Park, San Diego
REFRESH-INTERVAL;VALUE=DURATION:PT1H
X-Robots-Tag:noindex
X-PUBLISHED-TTL:PT1H
BEGIN:VTIMEZONE
TZID:UTC
BEGIN:STANDARD
TZOFFSETFROM:+0000
TZOFFSETTO:+0000
TZNAME:UTC
DTSTART:20250101T000000
END:STANDARD
END:VTIMEZONE
BEGIN:VEVENT
DTSTART;TZID=UTC:20250517T110000
DTEND;TZID=UTC:20250517T160000
DTSTAMP:20260416T033313
CREATED:20250425T183311Z
LAST-MODIFIED:20250425T183311Z
UID:2669-1747479600-1747497600@purepawshsd.com
SUMMARY:Inked and Unleashed Part Two: Tattoo Pop-Up with Dan Coehlo
DESCRIPTION:🖤 Inked & Unleashed – Tattoo Pop-Up with Dan Coehlo🗓 Saturday\, May 17th | 🕚 11 AM – 4 PM | 📍 Pure Pawsh\, North Park Back by popular demand! Join us for a one-day-only tattoo pop-up with the incredibly talented Dan Coehlo (@danzerart) — known for his stunning\, custom dog portrait tattoos 🐶🎨 Whether you’re ready to get inked or just want to swing by and watch the art in action\, this event is always a vibe. Last time Dan booked up fast\, so be sure to DM him on Instagram (@danzerart) to reserve your spot! 🐾 Dog lovers\, this is your chance to wear your heart (and your pup) on your sleeve—literally. We’ll have drinks\, music\, and dog-friendly hangout zones all day. Come celebrate your love for your dog in the most unforgettable way. 📍 4045 30th Street\, San Diego🎨 RSVP directly with Dan: @danzerart
URL:https://purepawshsd.com/event/inked-and-unleashed-part-two-tattoo-pop-up-with-dan-coehlo/
LOCATION:California
END:VEVENT
END:VCALENDAR