BEGIN:VCALENDAR
VERSION:2.0
PRODID:-//Pure Pawsh - North Park, San Diego - ECPv6.3.6//NONSGML v1.0//EN
CALSCALE:GREGORIAN
METHOD:PUBLISH
X-WR-CALNAME:Pure Pawsh - North Park, San Diego
X-ORIGINAL-URL:https://purepawshsd.com
X-WR-CALDESC:Events for Pure Pawsh - North Park, San Diego
REFRESH-INTERVAL;VALUE=DURATION:PT1H
X-Robots-Tag:noindex
X-PUBLISHED-TTL:PT1H
BEGIN:VTIMEZONE
TZID:UTC
BEGIN:STANDARD
TZOFFSETFROM:+0000
TZOFFSETTO:+0000
TZNAME:UTC
DTSTART:20250101T000000
END:STANDARD
END:VTIMEZONE
BEGIN:VEVENT
DTSTART;TZID=UTC:20250518T110000
DTEND;TZID=UTC:20250518T123000
DTSTAMP:20260421T190053
CREATED:20250425T183500Z
LAST-MODIFIED:20250425T183500Z
UID:2671-1747566000-1747571400@purepawshsd.com
SUMMARY:Puppy Yoga with Baja Paws
DESCRIPTION:🧘‍♀️🐾 Puppy Yoga with Baja Paws Animal Rescue🗓 Sunday\, May 18th | 🕚 11:00 AM | 📍 Pure Pawsh\, North Park If you’ve seen our Instagram videos\, you already know — our Puppy Yoga events sell out fast and are pure magic! ✨🐶 Come flow\, laugh\, and cuddle with adoptable puppies from Baja Paws Animal Rescue in a yoga experience like no other. Start your day with a drink from our bar (before yoga? after yoga? no judgment here 🍻🧘‍♂️) and soak up the good vibes in our retro\, dog-loving community space. At Pure Pawsh\, dog yoga just hits different — with awesome tunes\, cold drinks\, and the cutest furry distractions you could ask for. Plus\, your good time goes even further: a portion of proceeds will support Baja Paws Animal Rescue and the incredible work they do for pups in need. ✨ Stretch. Sip. Shop. Support.Space is limited — reserve your spot now and get ready for a Sunday you’ll never forget! 📍 4045 30th Street\, San Diego🎟 Tickets available at link below.
URL:https://purepawshsd.com/event/puppy-yoga-with-baja-paws/
LOCATION:California
END:VEVENT
END:VCALENDAR