BEGIN:VCALENDAR
VERSION:2.0
PRODID:-//Pure Pawsh - North Park, San Diego - ECPv6.3.6//NONSGML v1.0//EN
CALSCALE:GREGORIAN
METHOD:PUBLISH
X-ORIGINAL-URL:https://purepawshsd.com
X-WR-CALDESC:Events for Pure Pawsh - North Park, San Diego
REFRESH-INTERVAL;VALUE=DURATION:PT1H
X-Robots-Tag:noindex
X-PUBLISHED-TTL:PT1H
BEGIN:VTIMEZONE
TZID:UTC
BEGIN:STANDARD
TZOFFSETFROM:+0000
TZOFFSETTO:+0000
TZNAME:UTC
DTSTART:20250101T000000
END:STANDARD
END:VTIMEZONE
BEGIN:VEVENT
DTSTART;TZID=UTC:20250524T193000
DTEND;TZID=UTC:20250524T203000
DTSTAMP:20260421T191504
CREATED:20250425T184906Z
LAST-MODIFIED:20250425T184906Z
UID:2673-1748115000-1748118600@purepawshsd.com
SUMMARY:Dr. Ken's Seriously Funny-Comedy Hypnosis Show
DESCRIPTION:🌀😄 Dr. Ken’s Seriously Funny Comedy Hypnosis Show🗓 Saturday\, May 24th | 🕢 7:30 PM | 📍 Pure Pawsh\, North Park Get ready for a night of laughter\, surprises\, and real hypnosis with Dr. Ken — a real doctor bringing his wildly entertaining\, high-energy Comedy Hypnosis Show to Pure Pawsh! As seen on TV\, Dr. Ken blends comedy and science in a unique experience that’s both safe and hilariously unforgettable. Volunteers from the audience will be gently hypnotized and guided through outrageous (but positive!) suggestions for health\, happiness\, and healing. Whether you’re brave enough to go under—or just want to watch the magic unfold—this show is guaranteed to leave you laughing. 🎟 Tickets support a great cause:50% of all ticket sales will benefit the San Diego Humane Society 🐾 Grab your friends\, sip a drink from our bar\, and enjoy a night out that’s as fun as it is feel-good. Seating is limited\, so don’t sleep on this one… unless Dr. Ken says “SLEEP!” 😴😂 📍 4045 30th Street\, San Diego🎟 Reserve now at purepawshsd.com
URL:https://purepawshsd.com/event/dr-kens-seriously-funny-comedy-hypnosis-show/
LOCATION:California
END:VEVENT
END:VCALENDAR