BEGIN:VCALENDAR
VERSION:2.0
PRODID:-//Pure Pawsh - North Park, San Diego - ECPv6.3.6//NONSGML v1.0//EN
CALSCALE:GREGORIAN
METHOD:PUBLISH
X-WR-CALNAME:Pure Pawsh - North Park, San Diego
X-ORIGINAL-URL:https://purepawshsd.com
X-WR-CALDESC:Events for Pure Pawsh - North Park, San Diego
REFRESH-INTERVAL;VALUE=DURATION:PT1H
X-Robots-Tag:noindex
X-PUBLISHED-TTL:PT1H
BEGIN:VTIMEZONE
TZID:UTC
BEGIN:STANDARD
TZOFFSETFROM:+0000
TZOFFSETTO:+0000
TZNAME:UTC
DTSTART:20250101T000000
END:STANDARD
END:VTIMEZONE
BEGIN:VEVENT
DTSTART;TZID=UTC:20250724T180000
DTEND;TZID=UTC:20250724T200000
DTSTAMP:20260421T230448
CREATED:20250701T204908Z
LAST-MODIFIED:20250701T235450Z
UID:2777-1753380000-1753387200@purepawshsd.com
SUMMARY:Fetch a Connection: Speed Networking for Business Owners
DESCRIPTION:Calling all entrepreneurs\, and small biz owners! Join us for an evening of fast-paced networking designed to spark new collaborations\, partnerships\, and fresh ideas on Thursday\, July 24th from 6-8pm.  Make real connections in a fun setting\, dog-friendly\, of course! 🐶 RSVP online at purepawshsd.com
URL:https://purepawshsd.com/event/fetch-a-connection-speed-dating-for-business-owners/
LOCATION:Pure Pawsh\, 4045 30th street\, San Diego\, California\, 92104\, United States
END:VEVENT
END:VCALENDAR