BEGIN:VCALENDAR
VERSION:2.0
PRODID:-//Pure Pawsh - North Park, San Diego - ECPv6.3.6//NONSGML v1.0//EN
CALSCALE:GREGORIAN
METHOD:PUBLISH
X-WR-CALNAME:Pure Pawsh - North Park, San Diego
X-ORIGINAL-URL:https://purepawshsd.com
X-WR-CALDESC:Events for Pure Pawsh - North Park, San Diego
REFRESH-INTERVAL;VALUE=DURATION:PT1H
X-Robots-Tag:noindex
X-PUBLISHED-TTL:PT1H
BEGIN:VTIMEZONE
TZID:UTC
BEGIN:STANDARD
TZOFFSETFROM:+0000
TZOFFSETTO:+0000
TZNAME:UTC
DTSTART:20250101T000000
END:STANDARD
END:VTIMEZONE
BEGIN:VEVENT
DTSTART;TZID=UTC:20250725T180000
DTEND;TZID=UTC:20250725T200000
DTSTAMP:20260421T234834
CREATED:20250702T010209Z
LAST-MODIFIED:20250702T010209Z
UID:2791-1753466400-1753473600@purepawshsd.com
SUMMARY:Bingo Night with Road Dogs Rescue Featuring Mork\, the Baby Yoda Dog
DESCRIPTION:Get ready to shout B-I-N-G-O for a great cause! Join us for a night of fun\, prizes\, and puppy love—all to support Road Dogs Rescue. 🎱 Classic bingo games🎁 Fun prizes🐶 Bring your pup💛 $20 bingo cards — 100% donated to Road Dogs Rescue Come play\, sip\, and help make a difference—one bingo card at a time!
URL:https://purepawshsd.com/event/bingo-night-with-road-dogs-rescue-featuring-mork-the-baby-yoda-dog/
LOCATION:Pure Pawsh\, 4045 30th street\, San Diego\, California\, 92104\, United States
END:VEVENT
END:VCALENDAR