BEGIN:VCALENDAR
VERSION:2.0
PRODID:-//Pure Pawsh - North Park, San Diego - ECPv6.3.6//NONSGML v1.0//EN
CALSCALE:GREGORIAN
METHOD:PUBLISH
X-WR-CALNAME:Pure Pawsh - North Park, San Diego
X-ORIGINAL-URL:https://purepawshsd.com
X-WR-CALDESC:Events for Pure Pawsh - North Park, San Diego
REFRESH-INTERVAL;VALUE=DURATION:PT1H
X-Robots-Tag:noindex
X-PUBLISHED-TTL:PT1H
BEGIN:VTIMEZONE
TZID:UTC
BEGIN:STANDARD
TZOFFSETFROM:+0000
TZOFFSETTO:+0000
TZNAME:UTC
DTSTART:20250101T000000
END:STANDARD
END:VTIMEZONE
BEGIN:VEVENT
DTSTART;TZID=UTC:20250727T100000
DTEND;TZID=UTC:20250727T110000
DTSTAMP:20260421T230447
CREATED:20250702T005030Z
LAST-MODIFIED:20250725T182207Z
UID:2810-1753610400-1753614000@purepawshsd.com
SUMMARY:Puppies and Pilates\, Supporting the Cantu Foundation
DESCRIPTION:Stretch\, strengthen\, and snuggle! Join us for a feel-good Pilates class surrounded by adoptable puppies from the Cantu Foundation Rescue\, led by expert instructors from @lajollapilates. 🐶All-levels pilates mat class🧘 Bring your own mat💛 Proceeds go to Cantu Foundation Spaces fill fast—come flow for a cause and maybe meet your future furry workout buddy!
URL:https://purepawshsd.com/event/puppies-and-pilates-supporting-rescue/
LOCATION:Pure Pawsh\, 4045 30th street\, San Diego\, California\, 92104\, United States
END:VEVENT
END:VCALENDAR