BEGIN:VCALENDAR
VERSION:2.0
PRODID:-//Pure Pawsh - North Park, San Diego - ECPv6.3.6//NONSGML v1.0//EN
CALSCALE:GREGORIAN
METHOD:PUBLISH
X-WR-CALNAME:Pure Pawsh - North Park, San Diego
X-ORIGINAL-URL:https://purepawshsd.com
X-WR-CALDESC:Events for Pure Pawsh - North Park, San Diego
REFRESH-INTERVAL;VALUE=DURATION:PT1H
X-Robots-Tag:noindex
X-PUBLISHED-TTL:PT1H
BEGIN:VTIMEZONE
TZID:UTC
BEGIN:STANDARD
TZOFFSETFROM:+0000
TZOFFSETTO:+0000
TZNAME:UTC
DTSTART:20250101T000000
END:STANDARD
END:VTIMEZONE
BEGIN:VEVENT
DTSTART;TZID=UTC:20250803T150000
DTEND;TZID=UTC:20250803T180000
DTSTAMP:20260421T082816
CREATED:20250801T010754Z
LAST-MODIFIED:20250801T010755Z
UID:2867-1754233200-1754244000@purepawshsd.com
SUMMARY:Live Music Sundays + Yappy Hour
DESCRIPTION:Sundays at San Diego’s only dog bar just hit a new level 🐾🎶 Join us every week at 4045 30th Street in North Park for live music\, $6 draft beers\, and $2 dog beers for your pup. AUG 3 – Bella PopaAUG 10 – Marcus AngeloniAUG 17 – TBAAUG 24 – Bella PopaAUG 31 – TBA Chill with your dog\, sip something cold\, and soak in the music. Only at Pure Pawsh.
URL:https://purepawshsd.com/event/live-music-sundays-yappy-hour/
LOCATION:California
END:VEVENT
END:VCALENDAR