BEGIN:VCALENDAR
VERSION:2.0
PRODID:-//Pure Pawsh - North Park, San Diego - ECPv6.3.6//NONSGML v1.0//EN
CALSCALE:GREGORIAN
METHOD:PUBLISH
X-ORIGINAL-URL:https://purepawshsd.com
X-WR-CALDESC:Events for Pure Pawsh - North Park, San Diego
REFRESH-INTERVAL;VALUE=DURATION:PT1H
X-Robots-Tag:noindex
X-PUBLISHED-TTL:PT1H
BEGIN:VTIMEZONE
TZID:UTC
BEGIN:STANDARD
TZOFFSETFROM:+0000
TZOFFSETTO:+0000
TZNAME:UTC
DTSTART:20250101T000000
END:STANDARD
END:VTIMEZONE
BEGIN:VEVENT
DTSTART;TZID=UTC:20250817T110000
DTEND;TZID=UTC:20250817T140000
DTSTAMP:20260422T005939
CREATED:20250801T015750Z
LAST-MODIFIED:20250813T214439Z
UID:2882-1755428400-1755439200@purepawshsd.com
SUMMARY:Bark n' Brunch
DESCRIPTION:Bark n’ Brunch at Pure Pawsh 🥂🐾Sunday\, August 17th 11 AM | 4045 30th St\, North Park We’re serving up brunch for both humans and pups with delicious bites from The Funky Frenchie—because everyone deserves a treat. Enjoy bottomless mimosas\, good vibes\, and plenty of tail wags. Grab your brunch crew (four-legged friends included) and join us for a morning of food\, fun\, and fizz.
URL:https://purepawshsd.com/event/bark-n-brunch/
LOCATION:California
END:VEVENT
END:VCALENDAR