BEGIN:VCALENDAR
VERSION:2.0
PRODID:-//Pure Pawsh - North Park, San Diego - ECPv6.3.6//NONSGML v1.0//EN
CALSCALE:GREGORIAN
METHOD:PUBLISH
X-WR-CALNAME:Pure Pawsh - North Park, San Diego
X-ORIGINAL-URL:https://purepawshsd.com
X-WR-CALDESC:Events for Pure Pawsh - North Park, San Diego
REFRESH-INTERVAL;VALUE=DURATION:PT1H
X-Robots-Tag:noindex
X-PUBLISHED-TTL:PT1H
BEGIN:VTIMEZONE
TZID:UTC
BEGIN:STANDARD
TZOFFSETFROM:+0000
TZOFFSETTO:+0000
TZNAME:UTC
DTSTART:20240101T000000
END:STANDARD
END:VTIMEZONE
BEGIN:VEVENT
DTSTART;TZID=UTC:20240811T100000
DTEND;TZID=UTC:20240811T105000
DTSTAMP:20260419T162005
CREATED:20240805T212602Z
LAST-MODIFIED:20240805T214213Z
UID:2246-1723370400-1723373400@purepawshsd.com
SUMMARY:A Sound Bath Experience for Dogs and Dog Lovers
DESCRIPTION:Sound healing utilizes therapeutic sound frequencies to promote healing and well-being. For dogs\, it can alleviate anxiety\, improve mood\, support health and better sleep patterns\, and create a calming environment. For owners\, it provides an opportunity to unwind\, reduce stress\, and deepen the bond with your pet. Led by Alexis and Miguel\, also known as Mystic Vortex\, who specialize in creating unique sound bath experiences\, this session ensures that both you and your dog will benefit from this peaceful and restorative practice. Who Can Attend:Dog owners looking to bond with their pets in a serene setting.Individuals without dogs who seek the calming effects of sound healing and share a love for dogs!Senior dogs or dogs with a very calm demeanor. We recommend dogs age 8 or older\, but you know your pup best! We look forward to seeing you at our Sound Bath! It’s an experience to experience!
URL:https://purepawshsd.com/event/a-sound-bath-experience-for-dogs-and-dog-lovers/
LOCATION:California
END:VEVENT
BEGIN:VEVENT
DTSTART;TZID=UTC:20240818T100000
DTEND;TZID=UTC:20240818T105000
DTSTAMP:20260419T162005
CREATED:20240805T212831Z
LAST-MODIFIED:20240805T214407Z
UID:2248-1723975200-1723978200@purepawshsd.com
SUMMARY:Paws and Pose-Dog Yoga
DESCRIPTION:Join us for a rejuvenating morning at Pure Pawsh with Doga\, AKA Dog Yoga. This event is tailored for senior dogs or very well-behaved dogs\, offering a gentle yoga session to enhance their well-being and flexibility. Ideal Participants: Senior dogs or very well-behaved dogsAge Recommendation: 5 years or older (individual discretion advised)Experience Level: Suitable for all levels\, including beginnersWho Can Attend: Dog owners looking to bond with their pets in a serene setting\, and individuals who love yoga and dogs but may not have a dog themselves. Spaces are limited\, so secure your spot today for a peaceful and invigorating morning at Pure Pawsh!
URL:https://purepawshsd.com/event/paws-and-pose-dog-yoga/
LOCATION:California
END:VEVENT
BEGIN:VEVENT
DTSTART;TZID=UTC:20240824T090000
DTEND;TZID=UTC:20240824T095000
DTSTAMP:20260419T162005
CREATED:20240805T212956Z
LAST-MODIFIED:20240805T214337Z
UID:2250-1724490000-1724493000@purepawshsd.com
SUMMARY:Paws and Pose-Dog Yoga
DESCRIPTION:Join us for a rejuvenating morning at Pure Pawsh with Doga\, AKA Dog Yoga. This event is tailored for senior dogs or very well-behaved dogs\, offering a gentle yoga session to enhance their well-being and flexibility. Ideal Participants: Senior dogs or very well-behaved dogsAge Recommendation: 5 years or older (individual discretion advised)Experience Level: Suitable for all levels\, including beginnersWho Can Attend: Dog owners looking to bond with their pets in a serene setting\, and individuals who love yoga and dogs but may not have a dog themselves. Spaces are limited\, so secure your spot today for a peaceful and invigorating morning at Pure Pawsh!
URL:https://purepawshsd.com/event/paws-and-pose-dog-yoga-2/
LOCATION:California
END:VEVENT
BEGIN:VEVENT
DTSTART;TZID=UTC:20240825T100000
DTEND;TZID=UTC:20240825T105000
DTSTAMP:20260419T162005
CREATED:20240805T213142Z
LAST-MODIFIED:20240805T214304Z
UID:2252-1724580000-1724583000@purepawshsd.com
SUMMARY:Paws and Unwind-Sound Bath for Dogs\, Owners\, and Dog Lovers
DESCRIPTION:Sound healing utilizes therapeutic sound frequencies to promote healing and well-being. For dogs\, it can alleviate anxiety\, improve mood\, support health and better sleep patterns\, and create a calming environment. For owners\, it provides an opportunity to unwind\, reduce stress\, and deepen the bond with your pet. Led by Alexis and Miguel\, also known as Mystic Vortex\, who specialize in creating unique sound bath experiences\, this session ensures that both you and your dog will benefit from this peaceful and restorative practice. Who Can Attend:Dog owners looking to bond with their pets in a serene setting.Individuals without dogs who seek the calming effects of sound healing and share a love for dogs!Senior dogs or dogs with a very calm demeanor. We recommend dogs age 8 or older\, but you know your pup best! We look forward to seeing you at our Sound Bath! It’s an experience to experience!
URL:https://purepawshsd.com/event/paws-and-unwind-sound-bath-for-dogs-owners-and-dog-lovers/
LOCATION:California
END:VEVENT
BEGIN:VEVENT
DTSTART;TZID=UTC:20240830T190000
DTEND;TZID=UTC:20240830T210000
DTSTAMP:20260419T162005
CREATED:20240805T213353Z
LAST-MODIFIED:20240805T213353Z
UID:2254-1725044400-1725051600@purepawshsd.com
SUMMARY:Paws and Paint-Pet Portrait Night
DESCRIPTION: Paws and Paints: Pet Portrait Night!  Date & Time: Friday\, August 30th | 7:00pm – 9:00pm Venue: Pure Pawsh About the Event: Join us for Paws and Paints: Pet Portrait Night\, a unique and creative experience where art and pet love come together! Whether you’re a dog lover or a cat enthusiast\, this special event lets you celebrate your furry friend through personalized art. No painting experience is required—just bring your passion for your pet! How It Works:Send Us Your Photos: Email three well-lit images of your pet to info@purepawshsd.com by August 23rd:One headshotOne full-body photoOne image that best captures your pet’s personalityCanvas Preparation: Our talented artists will create a hand-drawn portrait of your pet on a canvas based on the photos you provide.Create Your Masterpiece: On the day of the event\, check-in and receive your pre-drawn canvas. A professional art instructor will guide you through the painting process\, ensuring a fun and supportive environment where you can create a beautiful piece of art. What’s Included:Pre-drawn canvas featuring your pet (dog or cat)Paints and brushesExpert guidance from a professional art instructorAn opportunity to connect with fellow pet loversOne beverage (alcoholic or non-alcoholic) Cost: $40 per participant (includes all materials)Social Aspect: Enjoy beverages\, chat with fellow pet enthusiasts\, and share stories about your beloved pets. We can’t wait to celebrate your pets with you at this creative and fun-filled evening! Please email info@purepawshsd.com with your pet’s photos by August 23rd.
URL:https://purepawshsd.com/event/paws-and-paint-pet-portrait-night/
LOCATION:California
END:VEVENT
BEGIN:VEVENT
DTSTART;TZID=UTC:20240831T160000
DTEND;TZID=UTC:20240831T180000
DTSTAMP:20260419T162005
CREATED:20240805T213500Z
LAST-MODIFIED:20240808T222833Z
UID:2256-1725120000-1725127200@purepawshsd.com
SUMMARY:Grand Opening Celebration and Vendor Fair
DESCRIPTION:Join Us for the Grand Opening Celebration of Pure Pawsh!  Date & Time: Saturday\, August 31st | 4:00pm – 6:00pmLocation: Pure Pawsh\, North Park About the Event:We’re thrilled to invite you to the grand opening of Pure Pawsh\, and we want you to celebrate with us! After a successful soft opening with friends and family\, we’re ready to officially welcome the community to our pet-loving haven. What to Expect: Cheers with Your Furry Friend: Enjoy a refreshing beer with your dog—yes\, we have special dog-friendly beer too!Vendor Showcase: Explore a variety of local vendors showcasing their products on our patio.Community Celebration: Connect with fellow pet lovers\, enjoy delicious drinks\, and celebrate the opening of our new space. Details: Dog-Friendly Event: Bring your pup along to enjoy our pet-friendly atmosphere.Exciting Vendors: Discover unique offerings from local businesses set up on our patio. **Special Note: We’re excited to partner with North Park Mainstreet for this event and can’t wait to meet you and your furry companions. 10% of all sales will be donated to the San Diego Humane Society who will also be present for those interested in adopting! RSVP: While RSVPs aren’t required\, we’d love to know if you’re coming! Feel free to email us at info@purepawshsd.com for more information. Come join us for a fun-filled evening as we celebrate our grand opening and the joy of pets! Pure Pawsh Team
URL:https://purepawshsd.com/event/grand-opening-celebration-and-vendor-fair/
LOCATION:California
END:VEVENT
END:VCALENDAR