BEGIN:VCALENDAR
VERSION:2.0
PRODID:-//Pure Pawsh - North Park, San Diego - ECPv6.3.6//NONSGML v1.0//EN
CALSCALE:GREGORIAN
METHOD:PUBLISH
X-ORIGINAL-URL:https://purepawshsd.com
X-WR-CALDESC:Events for Pure Pawsh - North Park, San Diego
REFRESH-INTERVAL;VALUE=DURATION:PT1H
X-Robots-Tag:noindex
X-PUBLISHED-TTL:PT1H
BEGIN:VTIMEZONE
TZID:UTC
BEGIN:STANDARD
TZOFFSETFROM:+0000
TZOFFSETTO:+0000
TZNAME:UTC
DTSTART:20240101T000000
END:STANDARD
END:VTIMEZONE
BEGIN:VEVENT
DTSTART;TZID=UTC:20241103T110000
DTEND;TZID=UTC:20241103T120000
DTSTAMP:20260421T082321
CREATED:20241026T180025Z
LAST-MODIFIED:20241026T180025Z
UID:2314-1730631600-1730635200@purepawshsd.com
SUMMARY:Puppy Pose and Pints
DESCRIPTION:Join us for Puppy Yoga!Sunday\, [Date] | [Time]Pure Pawsh\, North Park About the Event:Breathe\, stretch\, and unwind alongside adoptable puppies from the San Diego Humane Society! This fun and relaxing yoga class will help you find your zen while adorable pups bring smiles and snuggles to your mat. After the session\, enjoy a complimentary drink and mingle with fellow dog lovers. Tickets: $45 (includes a free drink)Limited Spots Available—Reserve Yours Today! By attending\, you’re also supporting a great cause\, as a portion of proceeds will go toward helping the puppies find their forever homes. Don’t miss this chance to relax\, have fun\, and maybe meet your new furry best friend! Sign up now and get ready to strike a “puppy pose!”
URL:https://purepawshsd.com/event/puppy-pose-and-pints/
LOCATION:California
END:VEVENT
BEGIN:VEVENT
DTSTART;TZID=UTC:20241110T100000
DTEND;TZID=UTC:20241110T120000
DTSTAMP:20260421T082321
CREATED:20241027T193525Z
LAST-MODIFIED:20241027T193543Z
UID:2316-1731232800-1731240000@purepawshsd.com
SUMMARY:Puppy Sound Healing and Mimosas
DESCRIPTION:Puppy Sound Healing and Mimosas Join us on Sunday\, November 10th at Pure Pawsh from 10am – 12pm for a Puppy Sound Bath benefiting TAP! Start your morning with a champagne hour\, where you can enjoy free-flowing mimosas and cuddle with our adoptable puppies. Then\, immerse yourself in a soothing sound bath by Mystic Vortex as the puppies roam freely around\, bringing joy and relaxation to your soul. Half of the proceeds from this event will be donated to TAP\, supporting our mission to rescue and rehabilitate dogs in need. For more information\, please contact cnb.theanimalpad@gmail.com. Please note that there will not be refunds for this event. 
URL:https://purepawshsd.com/event/puppy-sound-healing-and-mimosas/
LOCATION:California
END:VEVENT
BEGIN:VEVENT
DTSTART;TZID=UTC:20241116T183000
DTEND;TZID=UTC:20241116T203000
DTSTAMP:20260421T082321
CREATED:20241031T175930Z
LAST-MODIFIED:20241031T175930Z
UID:2324-1731781800-1731789000@purepawshsd.com
SUMMARY:Paws and Plates-Hosted by Wanderwithin
DESCRIPTION:What to Expect: Mezze Family-Style Feast: Enjoy a mouthwatering spread of Mediterranean-inspired dishes\, served family-style to spark connections over every shared plate. From fresh salads to warm breads and dips\, there’s something for everyone. • Champagne Toast: Begin the evening with a glass of champagne to toast new friends and celebrate the connections to come. • Guided Conversation Prompts: Get to know each other with prompts designed to bring out real stories and authentic conversations. • Cozy Ambiance: Relax in a warm\, inviting space that makes everyone feel right at home. • Dog-Friendly Vibes: While our pups will stay home\, this night is made for dog lovers. Expect plenty of laughter and stories about our furry companions and the joy they bring. Come for the mezze\, stay for the friendships! This evening is all about savoring good food\, sharing stories\, and making new connections. Seats are limited for an intimate experience\, so reserve your spot at *Paws and Plates by WanderWithin*. And if you’d like\, bring a journal to capture some of the night’s memorable moments.
URL:https://purepawshsd.com/event/paws-and-plates-hosted-by-wanderwithin/
LOCATION:California
END:VEVENT
BEGIN:VEVENT
DTSTART;TZID=UTC:20241120T170000
DTEND;TZID=UTC:20241120T200000
DTSTAMP:20260421T082321
CREATED:20241101T190438Z
LAST-MODIFIED:20241101T190438Z
UID:2329-1732122000-1732132800@purepawshsd.com
SUMMARY:Tales and Ales: An All-Inclusive Yappy Hour
DESCRIPTION:🐾 Tales and Ales: An All-Inclusive Yappy Hour 🐾 Get ready to make a difference for animals in need at Tales and Ales\, an all-inclusive yappy hour benefiting the San Diego Humane Society! Hosted by Wrecked Sports\, a womxn-owned and operated non-profit\, this donation-based happy hour is open to all pet lovers—and of course\, dogs are welcome! 📅 Event Details: Date & Time: Wednesday\, November 20\, 5:00 PM\n\nLocation: Pure Pawsh\, 4045 30th Street\, San Diego\, CA 92104What to Expect: Donation-based entry\, with all proceeds benefiting the San Diego Humane Society\n\nA cozy\, dog-friendly atmosphere with a selection of pints from our bar for you to enjoy while you mingle\n\nSupport a great cause while having a fantastic time with your furry friends!Donation Wish List: Support animals in need by bringing along any of the following for the Humane Society: Pet Food: Non-refrigerated new bags or cans\, or opened bags in original packaging\n\nPet Supplies: New collars\, litter\, pee pads\, flea medication\, beds\, brushes\, treats\, toys\, etc.\n\nLinens: New or gently used blankets\, pillowcases\, flat sheets\, towels (washed\, no holes or stains)You can also purchase items for donation directly from our store during the event! Every purchase helps support the cause\, and we’ll have a curated selection available to make it easy to give back. Raise a pint\, wag a tail\, and let’s make a difference together! We look forward to seeing you and your pups for an evening of giving\, good company\, and a great cause. 🐶🍻
URL:https://purepawshsd.com/event/tales-and-ales-an-all-inclusive-yappy-hour/
LOCATION:California
END:VEVENT
BEGIN:VEVENT
DTSTART;TZID=UTC:20241121T183000
DTEND;TZID=UTC:20241121T203000
DTSTAMP:20260421T082321
CREATED:20241031T172919Z
LAST-MODIFIED:20241031T175652Z
UID:2321-1732213800-1732221000@purepawshsd.com
SUMMARY:Thankful for Trivia
DESCRIPTION:Get ready to kick off the holiday season with a night of trivia\, treats\, and prizes! Join us on Thursday\, November 21st\, at 6:30 pm for a special Thankful for Trivia Night before everyone heads out for the holidays. Hosted by our fabulous regulars\, Nancy and Paige\, this event will be packed with fun\, challenging trivia rounds for a chance to win awesome prizes! Enjoy drinks from our bar and tasty snacks available for purchase. Bring your friends (furry ones too!) and come prepared for an evening of laughs\, friendly competition\, and festive spirit at Pure Pawsh. Let’s make it a memorable start to the holiday season! *RSVP required. Limited seating available. Please register your whole group!
URL:https://purepawshsd.com/event/thankful-for-trivia/
LOCATION:California
END:VEVENT
BEGIN:VEVENT
DTSTART;TZID=UTC:20241124T110000
DTEND;TZID=UTC:20241124T120000
DTSTAMP:20260421T082321
CREATED:20241116T182959Z
LAST-MODIFIED:20241116T182959Z
UID:2351-1732446000-1732449600@purepawshsd.com
SUMMARY:Kitten & Puppy Yoga: The Purr-fect     Paw-tnership
DESCRIPTION:Love dogs? Obsessed with cats? Why choose? Join us for a one-of-a-kind yoga experience featuring adoptable puppies AND kittens from the San Diego Humane Society! Whether you’re a yogi\, a dog lover\, a cat enthusiast\, or all of the above\, this event is for YOU.Playful Puppies will melt your stress away.Cuddly Kittens will make you say\, “Namaste!” Just when you thought we couldn’t get any wilder\, we’ve combined the best of both worlds! Spots are limited\, so reserve your mat now. All tickets include a drink from our dog friendly bar. A portion of the proceeds goes to support the San Diego Humane Society and their incredible work. Bring your zen\, your smiles\, and maybe even meet your future furry family member. We can’t wait to see you there!
URL:https://purepawshsd.com/event/kitten-puppy-yoga-the-purr-fect-paw-tnership/
LOCATION:California
END:VEVENT
BEGIN:VEVENT
DTSTART;TZID=UTC:20241124T120000
DTEND;TZID=UTC:20241124T170000
DTSTAMP:20260421T082321
CREATED:20241027T194002Z
LAST-MODIFIED:20241027T194002Z
UID:2318-1732449600-1732467600@purepawshsd.com
SUMMARY:Sunday Football and Off-Leash Fun (Every Sunday)
DESCRIPTION:Bring your pup and your team spirit! Every Sunday at Pure Pawsh\, you can kick back\, watch the game\, and enjoy a cold beer while your dog plays off-leash in our daycare area all day long! 🍻🐾 It’s the perfect way to spend your Sunday—relaxing with your pup\, hanging with fellow dog lovers\, and cheering on your favorite team! Don’t forget to dress up your dog in your team’s gear for some extra fun! 🎉🐶
URL:https://purepawshsd.com/event/sunday-football-and-off-leash-fun-every-sunday/
LOCATION:California
END:VEVENT
BEGIN:VEVENT
DTSTART;TZID=UTC:20241129T183000
DTEND;TZID=UTC:20241129T203000
DTSTAMP:20260421T082321
CREATED:20241101T183622Z
LAST-MODIFIED:20241101T183657Z
UID:2327-1732905000-1732912200@purepawshsd.com
SUMMARY:Furry Flicks and Fun-Movie Night
DESCRIPTION:Get ready for Furry Flicks and Fun—our very first Family Movie Night at Pure Pawsh! 🐾 Join us the night after Thanksgiving\, November 29th at 6:30pm\, to relax and unwind with your loved ones—both two- and four-legged! Bring a cozy blanket\, grab a drink from our bar\, and enjoy complimentary popcorn while we show the heartwarming classic Homeward Bound. 🐶❤️ Snacks for humans and treats for pups will be available for purchase\, so everyone can join in the fun! Let’s celebrate our gratitude for our furry friends with a cozy\, feel-good evening together. Spaces are limited\, so save your spot today!
URL:https://purepawshsd.com/event/furry-flicks-and-fun-movie-night/
LOCATION:California
END:VEVENT
END:VCALENDAR