BEGIN:VCALENDAR
VERSION:2.0
PRODID:-//Pure Pawsh - North Park, San Diego - ECPv6.3.6//NONSGML v1.0//EN
CALSCALE:GREGORIAN
METHOD:PUBLISH
X-ORIGINAL-URL:https://purepawshsd.com
X-WR-CALDESC:Events for Pure Pawsh - North Park, San Diego
REFRESH-INTERVAL;VALUE=DURATION:PT1H
X-Robots-Tag:noindex
X-PUBLISHED-TTL:PT1H
BEGIN:VTIMEZONE
TZID:UTC
BEGIN:STANDARD
TZOFFSETFROM:+0000
TZOFFSETTO:+0000
TZNAME:UTC
DTSTART:20250101T000000
END:STANDARD
END:VTIMEZONE
BEGIN:VEVENT
DTSTART;TZID=UTC:20250102T183000
DTEND;TZID=UTC:20250102T192000
DTSTAMP:20260421T095929
CREATED:20241226T234158Z
LAST-MODIFIED:20241226T234808Z
UID:2463-1735842600-1735845600@purepawshsd.com
SUMMARY:Pawsitive Beginnings: Wellness Wednesdays (first class Thursday)
DESCRIPTION:Pawsitive Beginnings: Wellness Wednesdays Start the new year on the right paw—join us for Pawsitive Beginnings\, a unique wellness experience that combines yoga\, meditation\, and socialization for both you and your dog! 🐾 Throughout the month of January\, we’re offering 50-minute classes designed to stretch\, strengthen\, and unwind you and your pup as you work toward your wellness goals together. 🌱 Whether you’re looking to improve your own health\, connect with your dog\, or meet other dog lovers in the community\, Pawsitive Beginnings is the perfect way to kick off 2024 with good energy and fresh habits. 🧘‍♀️🐶 Event Details:When: Every Wednesday in January at 6:30 PMNote: The first class will be held on Thursday\, January 4th due to New Year’s Day! 🎉\n\nWhere: Pure Pawsh (North Park) 📍\n\nCost:$20 per drop-in class 💵\n\n$75 for the whole month (5 classes) 🏷️Special Offer:If you sign up for the whole month at just $75\, you’ll also receive 20% off healthy dog food and treats all month long! 🐾🍖 Why You Should Join:New Year\, New You: Kickstart 2024 with a fresh focus on your health and wellness goals—for both you and your dog! 🌟\n\nStretch\, Strengthen & Unwind: Enjoy a relaxing and invigorating yoga flow that benefits you and your pup. 🧘‍♀️🐶\n\nSocialize with Your Community: Meet like-minded dog owners\, connect with your neighbors\, and make new friends in the North Park pet community. 🤝🐕\n\nHealthy Living for Your Dog: Keep your pup on track with nutritious food and treats\, with a 20% discount throughout January. 🐾🍎\n\nBonding Time: Strengthen your relationship with your dog through shared\, mindful movement. 💖
URL:https://purepawshsd.com/event/pawsitive-beginnings-wellness-wednesdays-first-class-thursday/
LOCATION:California
END:VEVENT
BEGIN:VEVENT
DTSTART;TZID=UTC:20250103T150000
DTEND;TZID=UTC:20250103T190000
DTSTAMP:20260421T095929
CREATED:20241227T224951Z
LAST-MODIFIED:20241231T185934Z
UID:2466-1735916400-1735930800@purepawshsd.com
SUMMARY:Furtastic Fridays-Beer and a Chew $6
DESCRIPTION:Join us every Friday in January for yappy hour with the pups! $6 for a beer and a chew from our raw bar • Add a second beer or drink for +$5.
URL:https://purepawshsd.com/event/furtastic-fridays-happy-hour-packages-for-humans-and-hounds/
LOCATION:California
END:VEVENT
BEGIN:VEVENT
DTSTART;TZID=UTC:20250105T100000
DTEND;TZID=UTC:20250105T120000
DTSTAMP:20260421T095929
CREATED:20241227T225706Z
LAST-MODIFIED:20241227T225706Z
UID:2471-1736071200-1736078400@purepawshsd.com
SUMMARY:Sound Bath with Puppies and Mimosas-an event supporting the Animal Pad
DESCRIPTION:Join us on Sunday\, January 5th at Pure Pawsh from 10am – 12pm for a Puppy Sound Bath benefiting TAP! Start your morning with a champagne hour\, where you can enjoy free-flowing mimosas and cuddle with our adoptable puppies. Then\, immerse yourself in a soothing sound bath by Mystic Vortex as the puppies roam freely around\, bringing joy and relaxation to your soul. The proceeds from this event will be donated to The Animal Pad\, supporting our mission to rescue and rehabilitate dogs in need. For more information\, please contact cnb.theanimalpad@gmail.com. WHAT TO BRING: *Please leave your furry friends at home for this event\, the adoptable puppies will be the only pups at this event. *Please bring a yoga mat for your comfort during the sound healing session.  *Note that the puppies will be freely roaming around the room during the session\, so there is a chance they may have an accident on the mats. Volunteers will be on hand to promptly clean up any messes\, however we recommend bringing a yoga mat you don’t mind getting a little messy or a protective towel if you prefer. *Due to the presence of adoptable puppies\, we ask all guests to remove their shoes before entering the sanitized space. Feel free to bring socks if that makes you more comfortable. *We encourage guests to get comfortable during sound healing. Comfy clothes and/or blankets are encouraged.
URL:https://purepawshsd.com/event/sound-bath-with-puppies-and-mimosas-an-event-supporting-the-animal-pad/
LOCATION:California
END:VEVENT
BEGIN:VEVENT
DTSTART;TZID=UTC:20250112T110000
DTEND;TZID=UTC:20250112T140000
DTSTAMP:20260421T095929
CREATED:20241231T190214Z
LAST-MODIFIED:20241231T190214Z
UID:2475-1736679600-1736690400@purepawshsd.com
SUMMARY:Paw Talk Series: Ask a Vet-Yappy Hour with Dr. Yonas
DESCRIPTION:Have questions about your pet’s health and wellness? Don’t miss this free and fun opportunity to connect with the incredibly knowledgeable and friendly Dr. Yonas! Dr. Yonas has a fascinating background that began with studying marine mammals and evolved into a career as a compassionate veterinarian. A graduate of Western University of Health Sciences College of Veterinary Medicine\, he brings years of experience caring for animals. Whether you’re curious about wellness tips\, diet\, behavior\, or anything in between\, Dr. Yonas is here to answer your questions in a relaxed and welcoming setting. He’ll also share stories from his unique journey—from studying walruses to adopting his first dog\, Lola\, who inspired his veterinary path. Now settled back in San Diego with his Chocolate Lab\, Gus\, and French Bulldog\, Hula\, Dr. Yonas is ready to help you better understand your furry friends. Grab a drink\, bring your questions\, and enjoy this casual and informative happy hour event. See you there!
URL:https://purepawshsd.com/event/paw-talk-series-ask-a-vet-yappy-hour-with-dr-yonas/
LOCATION:California
END:VEVENT
BEGIN:VEVENT
DTSTART;TZID=UTC:20250119T110000
DTEND;TZID=UTC:20250119T140000
DTSTAMP:20260421T095929
CREATED:20241231T190757Z
LAST-MODIFIED:20241231T190757Z
UID:2477-1737284400-1737295200@purepawshsd.com
SUMMARY:Paw Talk Series: Ask a Dog Trainer-Yappy Hour with Justin Scher
DESCRIPTION:Get ready for an evening of expert advice with Justin Scher\, a Certified Dog Behavioral Therapist and Master Trainer from Bark Busters\, and an award-winning trainer recognized both nationally and internationally. With over 15 years of experience helping thousands of dogs\, Justin specializes in solving any behavioral challenge. This free\, casual happy hour is the perfect opportunity to ask your training questions\, gain insights\, and connect with fellow dog owners.
URL:https://purepawshsd.com/event/paw-talk-series-ask-a-dog-trainer-yappy-hour-with-justin-scher/
LOCATION:California
END:VEVENT
BEGIN:VEVENT
DTSTART;TZID=UTC:20250121T183000
DTEND;TZID=UTC:20250121T200000
DTSTAMP:20260421T095929
CREATED:20241231T190917Z
LAST-MODIFIED:20241231T190917Z
UID:2479-1737484200-1737489600@purepawshsd.com
SUMMARY:Tuesday Night Trivia
DESCRIPTION:Join us for Tuesday Night Trivia every Tuesday\, starting January 21st. General trivia with some pup knowledge always thrown in 🙂
URL:https://purepawshsd.com/event/tuesday-night-trivia/
LOCATION:California
END:VEVENT
BEGIN:VEVENT
DTSTART;TZID=UTC:20250122T183000
DTEND;TZID=UTC:20250122T192000
DTSTAMP:20260421T095929
CREATED:20250114T214346Z
LAST-MODIFIED:20250115T213755Z
UID:2505-1737570600-1737573600@purepawshsd.com
SUMMARY:Wellness Wednesday-Dog Yoga and Meditation
DESCRIPTION:Join us for Pawsitive Beginnings\, a unique wellness experience that combines yoga\, meditation\, and socialization for both you and your dog! Each Wednesday in January (starting on Thursday\, January 2nd)\, we’ll stretch\, strengthen\, and unwind together in a fun and welcoming environment. 🌱💖 🐶 What to Expect:Gentle yoga for you & your pup 🧘‍♀️🐾Mindful meditation to enhance your wellness 💫Socialize with fellow dog lovers and their pups in the North Park community 🐕❤️
URL:https://purepawshsd.com/event/wellness-wednesday-dog-yoga-and-meditation/
LOCATION:California
END:VEVENT
BEGIN:VEVENT
DTSTART;TZID=UTC:20250123T183000
DTEND;TZID=UTC:20250123T193000
DTSTAMP:20260421T095929
CREATED:20250122T200109Z
LAST-MODIFIED:20250122T200109Z
UID:2513-1737657000-1737660600@purepawshsd.com
SUMMARY:Puppy Yoga with San Diego Humane Society
DESCRIPTION:You’re Invited to Zen thursday: Puppy Yoga with San Diego Humane Society! Unwind and de-stress with the perfect combination of relaxation and puppy love! Join us on Thursday\, January 23rd\, at 6:30 PM for an hour-long\, heartwarming yoga session\, where you’ll get to stretch\, breathe\, and bond with adorable adoptable puppies from San Diego Humane Society. It’s the ultimate way to achieve inner peace while enjoying some puppy cuddles! After yoga\, enjoy a refreshing drink on us! Choose from a selection of alcoholic and non-alcoholic options from our bar to keep the good vibes flowing. Details:Date: Thursday\, January 23rdTime: 6:30 PM (1 hour)Location: Pure Pawsh Tickets include: Yoga session with adoptable puppies\n\nA drink from our bar (alcoholic & non-alcoholic options)Spaces are limited\, so reserve your spot today and get ready for a paws-itively unforgettable evening! Let’s stretch\, relax\, and make new furry friends!   Agenda
URL:https://purepawshsd.com/event/puppy-yoga-with-san-diego-humane-society/
LOCATION:California
END:VEVENT
BEGIN:VEVENT
DTSTART;TZID=UTC:20250124T183000
DTEND;TZID=UTC:20250124T193000
DTSTAMP:20260421T095929
CREATED:20241231T191223Z
LAST-MODIFIED:20241231T191223Z
UID:2481-1737743400-1737747000@purepawshsd.com
SUMMARY:Zen Friday: Puppy Yoga with Adoptable Puppies from San Diego Humane Society
DESCRIPTION:You’re Invited to Zen Friday: Puppy Yoga with San Diego Humane Society! Unwind and de-stress with the perfect combination of relaxation and puppy love! Join us on Friday\, January 24th\, at 6:30 PM for an hour-long\, heartwarming yoga session\, where you’ll get to stretch\, breathe\, and bond with adorable adoptable puppies from San Diego Humane Society. It’s the ultimate way to achieve inner peace while enjoying some puppy cuddles! After yoga\, enjoy a refreshing drink on us! Choose from a selection of alcoholic and non-alcoholic options from our bar to keep the good vibes flowing. Details:Date: Friday\, January 24thTime: 6:30 PM (1 hour)Location: Pure Pawsh Tickets include: Yoga session with adoptable puppies\n\nA drink from our bar (alcoholic & non-alcoholic options)Spaces are limited\, so reserve your spot today and get ready for a paws-itively unforgettable evening! Let’s stretch\, relax\, and make new furry friends!
URL:https://purepawshsd.com/event/zen-friday-puppy-yoga-with-adoptable-puppies-from-san-diego-humane-society/
LOCATION:California
END:VEVENT
BEGIN:VEVENT
DTSTART;TZID=UTC:20250125T120000
DTEND;TZID=UTC:20250125T140000
DTSTAMP:20260421T095929
CREATED:20241231T191347Z
LAST-MODIFIED:20241231T191347Z
UID:2483-1737806400-1737813600@purepawshsd.com
SUMMARY:Adoption Event-Cantu Foundation
DESCRIPTION:Join us for an adoption event with the Cantu Foundation and meet adoptable dogs looking for their furever homes!
URL:https://purepawshsd.com/event/adoption-event-cantu-foundation/
LOCATION:California
END:VEVENT
BEGIN:VEVENT
DTSTART;TZID=UTC:20250126T110000
DTEND;TZID=UTC:20250126T140000
DTSTAMP:20260421T095929
CREATED:20241231T192024Z
LAST-MODIFIED:20241231T203951Z
UID:2485-1737889200-1737900000@purepawshsd.com
SUMMARY:Paws and Pints Walkabout: A Fundraiser for Pup Profile
DESCRIPTION:Join Us for a Paws & Pints Walkabout Fundraiser! Celebrate Walk Your Dog Month with us on Sunday\, January 26th at 11:00 AM at Pure Pawsh for a fun-filled and heartwarming event benefiting Pup Profile! Get ready to enjoy a short neighborhood walk with your dog\, perfect for all breeds and sizes. Whether your pup is a seasoned walker or a first-timer\, our stroll focuses on socialization\, so all dogs are welcome! 🐾 Here’s the plan: Short Walkabout: We’ll take a leisurely walk around the neighborhood\, giving your dog the chance to socialize and meet new friends.\n\nRaffle & Prizes: Test your luck with a fun raffle\, with exciting prizes to be won.\n\nSocial Mixer with Drinks: After the walk\, join us for a social mixer at the bar\, where you can relax and enjoy drinks with fellow dog lovers.\n\nVendors: Shop from local vendors at Pure Pawsh following the walk.$10 Donation: Your $10 donation includes a free event t-shirt! All proceeds will benefit Pup Profile\, a new nonprofit dedicated to helping at-risk shelter and rescue dogs. About Pup Profile:Pup Profile is a platform that connects people with shelter and rescue dogs in need. We work with community partners to help at-risk pups find foster homes\, donations\, and forever families. Our goal is to create a one-stop-shop where people can adopt\, foster\, donate\, and get involved in saving lives. With your help\, we’re building a stronger network of support for dogs in need! Dogs of all sizes\, ages\, and temperaments are welcome\, and we encourage everyone to come out and enjoy the day! Together\, we can make a difference for shelter dogs. Event Details: Date: Sunday\, January 26th\n\nTime: 11:00 AM\n\nLocation: Pure Pawsh\n\nDonation: $10 (includes a free event t-shirt)Let’s walk\, socialize\, and make an impact on the lives of shelter dogs! 🐕💙 RSVP and bring your friends — the more paws\, the merrier!
URL:https://purepawshsd.com/event/paws-and-pints-walkabout-a-fundraiser-for-pup-profile/
LOCATION:California
END:VEVENT
BEGIN:VEVENT
DTSTART;TZID=UTC:20250128T183000
DTEND;TZID=UTC:20250128T200000
DTSTAMP:20260421T095929
CREATED:20250128T170442Z
LAST-MODIFIED:20250128T170442Z
UID:2522-1738089000-1738094400@purepawshsd.com
SUMMARY:Tuesday Night Trivia-Every Week
DESCRIPTION:
URL:https://purepawshsd.com/event/tuesday-night-trivia-every-week/
LOCATION:California
END:VEVENT
BEGIN:VEVENT
DTSTART;TZID=UTC:20250129T183000
DTEND;TZID=UTC:20250129T193000
DTSTAMP:20260421T095929
CREATED:20250128T170329Z
LAST-MODIFIED:20250128T170329Z
UID:2520-1738175400-1738179000@purepawshsd.com
SUMMARY:Wellness Wednesday-Dog Yoga and Meditation
DESCRIPTION:🐶 What to Expect:Gentle yoga for you & your pup 🧘‍♀️🐾Mindful meditation to enhance your wellness 💫Socialize with fellow dog lovers and their pups in the North Park community🐕❤️
URL:https://purepawshsd.com/event/wellness-wednesday-dog-yoga-and-meditation-2/
LOCATION:California
END:VEVENT
BEGIN:VEVENT
DTSTART;TZID=UTC:20250131T190000
DTEND;TZID=UTC:20250131T210000
DTSTAMP:20260421T095929
CREATED:20241231T192920Z
LAST-MODIFIED:20241231T201257Z
UID:2487-1738350000-1738357200@purepawshsd.com
SUMMARY:Karaoke Pup Stars- 80s edition
DESCRIPTION:🎤🎶 Get Ready for Karaoke Pupstars: 80s Edition! 🎶🎤 Dust off your leg warmers\, tease your hair\, and get ready to travel back in time to the 80s for our first-ever Karaoke Pupstars event! 🎉 Join us for an evening of karaoke\, prizes\, and 80s nostalgia with your best furry friend by your side! We’re throwing an 80s-themed costume party—so don’t forget to dress up yourself and your pup in your finest neon\, leather\, and big-hair vibes! ✨ Event Highlights: Karaoke: Sing your heart out to your favorite 80s hits!\n\nCostume Contest: Best-dressed duo wins a fabulous prize! (The more 80s\, the better!)\n\nDrinks: Enjoy cocktails from our bar while you sing and socialize.\n\nDogs Welcome: Let your pup show off their 80s flair too—prizes for the best costume duo!Whether you’re a karaoke pro or just love the 80s\, this is a night you won’t want to miss. 🐾 Come for the music\, stay for the fun\, and let’s make this an unforgettable night with your pups! 🎤👚🐕 We can’t wait to see you there in your best 80s gear!
URL:https://purepawshsd.com/event/karaoke-pupstars-80s-edition/
LOCATION:California
END:VEVENT
END:VCALENDAR