BEGIN:VCALENDAR
VERSION:2.0
PRODID:-//Pure Pawsh - North Park, San Diego - ECPv6.3.6//NONSGML v1.0//EN
CALSCALE:GREGORIAN
METHOD:PUBLISH
X-WR-CALNAME:Pure Pawsh - North Park, San Diego
X-ORIGINAL-URL:https://purepawshsd.com
X-WR-CALDESC:Events for Pure Pawsh - North Park, San Diego
REFRESH-INTERVAL;VALUE=DURATION:PT1H
X-Robots-Tag:noindex
X-PUBLISHED-TTL:PT1H
BEGIN:VTIMEZONE
TZID:UTC
BEGIN:STANDARD
TZOFFSETFROM:+0000
TZOFFSETTO:+0000
TZNAME:UTC
DTSTART:20250101T000000
END:STANDARD
END:VTIMEZONE
BEGIN:VEVENT
DTSTART;TZID=UTC:20250201T120000
DTEND;TZID=UTC:20250201T140000
DTSTAMP:20260418T051845
CREATED:20250128T170523Z
LAST-MODIFIED:20250128T170523Z
UID:2524-1738411200-1738418400@purepawshsd.com
SUMMARY:Woofs and Wags-Adoption Event
DESCRIPTION:
URL:https://purepawshsd.com/event/woofs-and-wags-adoption-event/
LOCATION:California
END:VEVENT
BEGIN:VEVENT
DTSTART;TZID=UTC:20250204T190000
DTEND;TZID=UTC:20250204T203000
DTSTAMP:20260418T051845
CREATED:20250201T171635Z
LAST-MODIFIED:20250201T171635Z
UID:2532-1738695600-1738701000@purepawshsd.com
SUMMARY:Tuesday Night Trivia
DESCRIPTION:
URL:https://purepawshsd.com/event/tuesday-night-trivia-2/
LOCATION:California
END:VEVENT
BEGIN:VEVENT
DTSTART;TZID=UTC:20250207T190000
DTEND;TZID=UTC:20250207T210000
DTSTAMP:20260418T051845
CREATED:20250122T200948Z
LAST-MODIFIED:20250122T200948Z
UID:2515-1738954800-1738962000@purepawshsd.com
SUMMARY:Fetch a Date: Speed Dating for Dog Lovers
DESCRIPTION:Fetch a Date: Dog-Friendly Speed Dating: Looking for love or just a new friend who loves dogs as much as you do? Join us for Fetch a Date\, our dog-friendly speed dating event\, on Friday\, February 7th at 7 PM! Bring your dog or just your love for dogs\, and get ready to mix and mingle with like-minded people in a relaxed\, fun atmosphere. Whether you’re searching for your forever partner or a new buddy for you and your pup\, this event is the perfect opportunity to make connections. What to Expect: Five-Minute Speed Dates: Enjoy a series of mini-dates sprinkled throughout our store\, patio\, and bar area\, creating a comfortable and casual setting.\n\nDrinks & Socializing: Sip on drinks from our bar while meeting potential matches or new friends.\n\nDog-Friendly Fun: Your furry friend is welcome to join the fun\, making it a great chance to see if your dogs hit it off too!Details: Date: Friday\, February 7th\n\nTime: 7 PM\n\nLocation: Pure PawshWhether you’re a dog owner or just a dog lover\, this is your chance to meet someone special—whether it’s a human or a canine connection! Spaces are limited\, so grab your spot now and get ready to Fetch a Date!
URL:https://purepawshsd.com/event/fetch-a-date-speed-dating-for-dog-lovers/
LOCATION:California
END:VEVENT
BEGIN:VEVENT
DTSTART;TZID=UTC:20250209T020000
DTEND;TZID=UTC:20250209T190000
DTSTAMP:20260418T051845
CREATED:20250123T172751Z
LAST-MODIFIED:20250123T172751Z
UID:2517-1739066400-1739127600@purepawshsd.com
SUMMARY:Super Bowl Sunday at Pure Pawsh
DESCRIPTION:Here’s what’s happening: • Crazee Burger and Falafel Heights available for delivery\, so you can enjoy your favorite eats without missing any action! • Beers\, ciders\, seltzers and kombuchas for purchase as well as treats and beer/wine for the pups! • Commercial Bingo: Test your ad-spotting skills with our bingo game during the famous Super Bowl commercials. • 50/50 Raffle: Try your luck! Win cash\, prizes\, and more! • Off-Leash Fun: Bring your dogs to enjoy our off-leash area while you kick back and enjoy the game. Enjoy drinks from our bar\, soak in the game-day atmosphere\, and make this Super Bowl Sunday one to remember—with something for everyone\, including your furry friends! Date: Super Bowl Sunday\, Kickoff at 3pm PST Location: Pure Pawsh\, North Park\, San Diego Mark your calendars\, grab your friends (and pups)\, and come join us for a paw-some Super Bowl celebration!
URL:https://purepawshsd.com/event/super-bowl-sunday-at-pure-pawsh/
LOCATION:California
END:VEVENT
BEGIN:VEVENT
DTSTART;TZID=UTC:20250211T190000
DTEND;TZID=UTC:20250211T203000
DTSTAMP:20260418T051845
CREATED:20250201T180253Z
LAST-MODIFIED:20250201T180253Z
UID:2543-1739300400-1739305800@purepawshsd.com
SUMMARY:Tuesday Night Trivia and Fundraiser for Pup Profile
DESCRIPTION:Join us for Tuesday Trivia! Free t-shirt with any donation to Pup Profile! Come for the trivia\, raffle\, and prizes! Drinks from our bar and food delivery from Crazee Burger available for purchase!
URL:https://purepawshsd.com/event/tuesday-night-trivia-and-fundraiser-for-pup-profile/
LOCATION:California
END:VEVENT
BEGIN:VEVENT
DTSTART;TZID=UTC:20250212T183000
DTEND;TZID=UTC:20250212T193000
DTSTAMP:20260418T051845
CREATED:20250201T174859Z
LAST-MODIFIED:20250201T174859Z
UID:2534-1739385000-1739388600@purepawshsd.com
SUMMARY:Wellness Wednesdays-Dog Friendly Sound Bath and Yoga
DESCRIPTION:Join us for a mini yoga session followed by a sound bath led by Alexis from Mystic Vortex. Whether you’re just a dog lover\, or a dog owner\, all are welcome\, including pups! Wellness Wednesdays are a great way to relax and recharge mid-week\, for both humans and dogs!
URL:https://purepawshsd.com/event/wellness-wednesdays-dog-friendly-sound-bath-and-yoga/
LOCATION:California
END:VEVENT
BEGIN:VEVENT
DTSTART;TZID=UTC:20250215T120000
DTEND;TZID=UTC:20250215T140000
DTSTAMP:20260418T051845
CREATED:20250201T181838Z
LAST-MODIFIED:20250201T181838Z
UID:2545-1739620800-1739628000@purepawshsd.com
SUMMARY:Doodle Meetup at Pure Pawsh
DESCRIPTION:🐾 Doodle Meetup at Pure Pawsh! 🐾 Calling all Doodles—Goldendoodles\, Labradoodles\, Bernedoodles\, and more! 🐶✨ Join us at Pure Pawsh for a tail-wagging good time with fellow doodle pups and their humans. Come let your doodle play\, socialize\, and make new fluffy friends! We’ll have treats\, puppuccinos\, and a pawsome time connecting with fellow doodle lovers. 🍹 Enjoy drinks from our bar\, available for purchase🍽️ Hungry? Order food from our amazing restaurant partners! 💛 Free to attend—just bring your doodle and good vibes! RSVP or just drop in. We can’t wait to see you and your pup! 🐕✨
URL:https://purepawshsd.com/event/doodle-meetup-at-pure-pawsh/
LOCATION:California
END:VEVENT
BEGIN:VEVENT
DTSTART;TZID=UTC:20250216T130000
DTEND;TZID=UTC:20250216T150000
DTSTAMP:20260418T051845
CREATED:20250201T175803Z
LAST-MODIFIED:20250201T175803Z
UID:2536-1739710800-1739718000@purepawshsd.com
SUMMARY:Paw-lentine's Day Celebration: Flower Crown or Collar Workshop with Natalie Bloom
DESCRIPTION:Join us for a special Paw-lentine’s Day celebration! Bring your furry friend to our Flower Crown or Collar Workshop and learn how to create a custom floral accessory using pet-safe flowers. Whether you choose to make a charming flower crown or a stylish collar\, your pup will look absolutely adorable! Event Details:     •    Date: Sunday\, February 16th     •    Time: 1 PM – 3 PM     •    Location: Pure Pawsh\, North Park Capture the moment with a professional photo op as your dog models their new look! This is the perfect opportunity to celebrate Valentine’s Day with your four-legged companion in a creative and fun way. Spaces are limited\, so don’t wait! Reserve your spot today and treat your pup to a paw-some day out. Drinks from our bar and food delivery from our restaurant partners available for purchase!
URL:https://purepawshsd.com/event/paw-lentines-day-celebration-flower-crown-or-collar-workshop-with-natalie-bloom/
LOCATION:California
END:VEVENT
BEGIN:VEVENT
DTSTART;TZID=UTC:20250221T190000
DTEND;TZID=UTC:20250221T230000
DTSTAMP:20260418T051845
CREATED:20250201T175950Z
LAST-MODIFIED:20250201T175950Z
UID:2538-1740164400-1740178800@purepawshsd.com
SUMMARY:Comedy Show with Don't Tell Comedy
DESCRIPTION:*Two seatings available-7pm and 9pm. Drinks from our bar and food delivery from Crazee Burger available!
URL:https://purepawshsd.com/event/comedy-show-with-dont-tell-comedy/
LOCATION:California
END:VEVENT
BEGIN:VEVENT
DTSTART;TZID=UTC:20250222T120000
DTEND;TZID=UTC:20250222T140000
DTSTAMP:20260418T051845
CREATED:20250201T180112Z
LAST-MODIFIED:20250201T180112Z
UID:2541-1740225600-1740232800@purepawshsd.com
SUMMARY:Adoption Event and Fundraiser: Sweet Gigi and Her Adoptable friends
DESCRIPTION:Come meet adoptable puppies while supporting a great cause! More event details to come…
URL:https://purepawshsd.com/event/adoption-event-and-fundraiser-sweet-gigi-and-her-adoptable-friends/
LOCATION:California
END:VEVENT
BEGIN:VEVENT
DTSTART;TZID=UTC:20250228T183000
DTEND;TZID=UTC:20250228T203000
DTSTAMP:20260418T051845
CREATED:20250128T171132Z
LAST-MODIFIED:20250128T171132Z
UID:2526-1740767400-1740774600@purepawshsd.com
SUMMARY:Paws and Paint: Pet Portrait Night
DESCRIPTION:Back by popular demand! Join us on Friday\, February 28th at 6:30pm for another fun-filled night of painting and pups! Submit photos of your dog (or any other pet)\, and our talented artist from @copper.canvas will have it prepped on a canvas with all the tools you’ll need to make a masterpiece. Relax\, create and enjoy a drink on us. 🍻🍷 Once ticket has been purchased\, please email a minimum of 3 well-lit photographs of your pet to info@purepawshsd.com -Dog Sitting -Dog Full Body -Dog Showing Off Personality *Final day to send photos is Tuesday\, February 18th.
URL:https://purepawshsd.com/event/paws-and-paint-pet-portrait-night-4/
LOCATION:California
END:VEVENT
END:VCALENDAR