BEGIN:VCALENDAR
VERSION:2.0
PRODID:-//Pure Pawsh - North Park, San Diego - ECPv6.3.6//NONSGML v1.0//EN
CALSCALE:GREGORIAN
METHOD:PUBLISH
X-WR-CALNAME:Pure Pawsh - North Park, San Diego
X-ORIGINAL-URL:https://purepawshsd.com
X-WR-CALDESC:Events for Pure Pawsh - North Park, San Diego
REFRESH-INTERVAL;VALUE=DURATION:PT1H
X-Robots-Tag:noindex
X-PUBLISHED-TTL:PT1H
BEGIN:VTIMEZONE
TZID:UTC
BEGIN:STANDARD
TZOFFSETFROM:+0000
TZOFFSETTO:+0000
TZNAME:UTC
DTSTART:20250101T000000
END:STANDARD
END:VTIMEZONE
BEGIN:VEVENT
DTSTART;TZID=UTC:20250301T120000
DTEND;TZID=UTC:20250301T140000
DTSTAMP:20260417T115822
CREATED:20250227T164606Z
LAST-MODIFIED:20250227T164606Z
UID:2574-1740830400-1740837600@purepawshsd.com
SUMMARY:Pug Meetup
DESCRIPTION:Pug Pawsh Meetup at Pure Pawsh! 🐾 Calling all squishy-faced\, curly-tailed cuties—it’s time for a Pug Meetup at Pure Pawsh! Bring your adorable pugs for an afternoon of fun\, socialization\, and snorts! 🐶✨ 📅 Date: March 1st 2025⏰ Time:12:00pm-2:00pm📍 Location: Pure Pawsh\, North Park 🐾 What to Expect:🥏 Pug Playtime: Let your pugs mingle\, zoom\, and make new friends in a safe\, welcoming environment.🍻 Drinks & Treats: Enjoy a refreshing drink from our bar while your pup enjoys a special dog beer!🛍️ Shop & Spoil: Browse our unique pup toys\, accessories\, and treats!🐶 Meet & Greet: Connect with other pug parents who love these charming little companions as much as you do!
URL:https://purepawshsd.com/event/pug-meetup/
LOCATION:California
END:VEVENT
BEGIN:VEVENT
DTSTART;TZID=UTC:20250308T110000
DTEND;TZID=UTC:20250308T180000
DTSTAMP:20260417T115822
CREATED:20250227T164734Z
LAST-MODIFIED:20250227T164734Z
UID:2576-1741431600-1741456800@purepawshsd.com
SUMMARY:Inked and Unleashed with Tattoo Artist Dan Coehlo
DESCRIPTION:Join us on March 8th for a day of dog-inspired tattoos\, drinks\, and treats for the pups! 🐶🍻 We’re bringing the talented @danzerart to the Pure Pawsh patio from 11AM – 6PM to create stunning pet tattoos! Whether you want a portrait of your pup or a simple tribute\, Dan’s got you covered. 🍹 Drink specials all day🦴 Tasty treats for your furry BFFs🎨 Tattoos by Dan Coelho (@danzerart) – check out his page for inspo & questions!
URL:https://purepawshsd.com/event/inked-and-unleashed-with-tattoo-artist-dan-coehlo/
LOCATION:California
END:VEVENT
BEGIN:VEVENT
DTSTART;TZID=UTC:20250309T120000
DTEND;TZID=UTC:20250309T140000
DTSTAMP:20260417T115822
CREATED:20250227T164828Z
LAST-MODIFIED:20250227T164828Z
UID:2578-1741521600-1741528800@purepawshsd.com
SUMMARY:Adoption Event-Alma Rescue
DESCRIPTION:Meet adoptable dogs from the Alma Rescue and perhaps meet your furever friend!
URL:https://purepawshsd.com/event/adoption-event-alma-rescue/
LOCATION:California
END:VEVENT
BEGIN:VEVENT
DTSTART;TZID=UTC:20250314T183000
DTEND;TZID=UTC:20250314T203000
DTSTAMP:20260417T115822
CREATED:20250226T233327Z
LAST-MODIFIED:20250305T234436Z
UID:2571-1741977000-1741984200@purepawshsd.com
SUMMARY:Pilates\, Pups\, and Pints
DESCRIPTION:Get ready to stretch\, sip\, and snuggle at Pups\, Pilates\, and Pints—a feel-good event for dog lovers! 🐶🧘‍♀️🍻 Join us for a Pilates session\, followed by quality time with the cutest adoptable dogs from The Cantu Foundation. After class\, unwind with a refreshing pint of beer\, cider\, or kombucha from our bar\, mingle with fellow dog lovers\, and get in some dog cuddles. Who knows? You might just meet your new best friend! 📅 Date: Friday\, March 14th⏰ Time: 6:30pm📍 Location: Pure Pawsh – North Park\, San Diego🎟️ Tickets: Tickets are $25 and include 1 free drink and 50% of sales goes to supporting the Cantu Foundation. Space is limited\, so grab your ticket today and join us for a paws-itively perfect experience! 🐾💛
URL:https://purepawshsd.com/event/pilates-pups-and-pints/
LOCATION:California
END:VEVENT
BEGIN:VEVENT
DTSTART;TZID=UTC:20250315T120000
DTEND;TZID=UTC:20250315T140000
DTSTAMP:20260417T115822
CREATED:20250227T165235Z
LAST-MODIFIED:20250305T173901Z
UID:2580-1742040000-1742047200@purepawshsd.com
SUMMARY:St. Pawtrick's Day Celebration with Woofs and Wags Dog Rescue
DESCRIPTION:St. Pawtrick’s Day Celebration at Pure Pawsh! ☘️🐶🍻 Get ready to celebrate St. Patrick’s Day with your pup at Pure Pawsh! Join us on Saturday\, March 15th\, for a day filled with green beers\, adoptable dogs\, and plenty of lucky fun! We’re teaming up with Woofs and Wags Dog Rescue to help some adorable pups find their forever homes—because nothing is luckier than finding your perfect match! ❤️🐾 🍀 What’s Happening:🐶 Adoption Event with Woofs and Wags Dog Rescue🍺 Green Beers & Festive Drinks for the humans🎉 Lucky Doggo Bingo with prizes🐾 Fun\, Friends & Lots of Doggie Shenanigans Whether you’re looking to adopt\, sip on a festive drink\, or just enjoy the paw-some vibes\, this event is one you won’t want to miss. So grab your pup\, throw on something green\, and let’s make this St. Pawtrick’s Day one for the books! 📍 Pure Pawsh – North Park\, San Diego
URL:https://purepawshsd.com/event/st-pawtricks-day-celebration-with-wags-and-woof-rescue/
LOCATION:California
END:VEVENT
BEGIN:VEVENT
DTSTART;TZID=UTC:20250321T183000
DTEND;TZID=UTC:20250321T203000
DTSTAMP:20260417T115822
CREATED:20250227T165409Z
LAST-MODIFIED:20250228T180239Z
UID:2582-1742581800-1742589000@purepawshsd.com
SUMMARY:An Abstract Art Experience: Paint Your Own Treat Jar
DESCRIPTION:Details coming soon…
URL:https://purepawshsd.com/event/pawsitive-vibes-a-pet-inspired-abstract-art-workshop/
LOCATION:California
END:VEVENT
BEGIN:VEVENT
DTSTART;TZID=UTC:20250322T120000
DTEND;TZID=UTC:20250322T140000
DTSTAMP:20260417T115822
CREATED:20250227T165622Z
LAST-MODIFIED:20250301T002449Z
UID:2584-1742644800-1742652000@purepawshsd.com
SUMMARY:Corgi Meetup
DESCRIPTION:Corgi Meetup at Pure Pawsh! 🐾 Calling all corgi lovers—it’s time for a Corgi Meetup at Pure Pawsh! Bring your fluffy pups for an afternoon of fun\, socialization\, and adorable wiggly butts! 🍑🐶 📅 Date: Saturday\, March 22nd ⏰ Time: 12:00pm – 2:00pm📍 Location: Pure Pawsh\, North Park 🐾 What to Expect:🐕 Corgi Playtime: Let your corgi run\, romp\, and mingle with fellow floofs!🍻 Drinks & Treats: Enjoy a drink from our bar while your pup enjoys a tasty treat from our raw bar!🐶 Meet & Greet: Connect with fellow corgi parents in a fun\, dog-friendly space! All well-behaved corgis & their small dog friends are welcome!
URL:https://purepawshsd.com/event/corgi-meetup/
LOCATION:California
END:VEVENT
BEGIN:VEVENT
DTSTART;TZID=UTC:20250323T130000
DTEND;TZID=UTC:20250323T150000
DTSTAMP:20260417T115822
CREATED:20250227T165735Z
LAST-MODIFIED:20250227T165735Z
UID:2586-1742734800-1742742000@purepawshsd.com
SUMMARY:Private Dog Birthday Party for Trevi-Roman Holiday Theme
DESCRIPTION:
URL:https://purepawshsd.com/event/private-dog-birthday-party-for-trevi-roman-holiday-theme/
LOCATION:California
END:VEVENT
BEGIN:VEVENT
DTSTART;TZID=UTC:20250329T160000
DTEND;TZID=UTC:20250329T180000
DTSTAMP:20260417T115822
CREATED:20250305T180035Z
LAST-MODIFIED:20250305T180039Z
UID:2595-1743264000-1743271200@purepawshsd.com
SUMMARY:Paws and Pints Yappy Hour-Adoption Event with Baja Paws
DESCRIPTION:Join Baja Paws Rescue for an adoption event at Pure Pawsh and meet adorable adoptable pups and kittens! Happy Hour Specials Available!
URL:https://purepawshsd.com/event/paws-and-pints-yappy-hour-adoption-event-with-baja-paws/
LOCATION:California
END:VEVENT
BEGIN:VEVENT
DTSTART;TZID=UTC:20250330T130000
DTEND;TZID=UTC:20250330T150000
DTSTAMP:20260417T115822
CREATED:20250227T170356Z
LAST-MODIFIED:20250227T170356Z
UID:2588-1743339600-1743346800@purepawshsd.com
SUMMARY:Private Dog Birthday Pawty for Stanley-Pokemon Theme
DESCRIPTION:
URL:https://purepawshsd.com/event/private-dog-birthday-pawty-for-stanley-pokemon-theme/
LOCATION:California
END:VEVENT
END:VCALENDAR